BEGIN:VCALENDAR
VERSION:2.0
PRODID:-//Livingston - ECPv6.15.11//NONSGML v1.0//EN
CALSCALE:GREGORIAN
METHOD:PUBLISH
X-WR-CALNAME:Livingston
X-ORIGINAL-URL:https://www.lmvna.org/es
X-WR-CALDESC:Eventos para Livingston
REFRESH-INTERVAL;VALUE=DURATION:PT1H
X-Robots-Tag:noindex
X-PUBLISHED-TTL:PT1H
BEGIN:VTIMEZONE
TZID:America/Los_Angeles
BEGIN:DAYLIGHT
TZOFFSETFROM:-0800
TZOFFSETTO:-0700
TZNAME:PDT
DTSTART:20250309T100000
END:DAYLIGHT
BEGIN:STANDARD
TZOFFSETFROM:-0700
TZOFFSETTO:-0800
TZNAME:PST
DTSTART:20251102T090000
END:STANDARD
BEGIN:DAYLIGHT
TZOFFSETFROM:-0800
TZOFFSETTO:-0700
TZNAME:PDT
DTSTART:20260308T100000
END:DAYLIGHT
BEGIN:STANDARD
TZOFFSETFROM:-0700
TZOFFSETTO:-0800
TZNAME:PST
DTSTART:20261101T090000
END:STANDARD
BEGIN:DAYLIGHT
TZOFFSETFROM:-0800
TZOFFSETTO:-0700
TZNAME:PDT
DTSTART:20270314T100000
END:DAYLIGHT
BEGIN:STANDARD
TZOFFSETFROM:-0700
TZOFFSETTO:-0800
TZNAME:PST
DTSTART:20271107T090000
END:STANDARD
END:VTIMEZONE
BEGIN:VEVENT
DTSTART;TZID=America/Los_Angeles:20260422T130000
DTEND;TZID=America/Los_Angeles:20260422T143000
DTSTAMP:20260422T031945
CREATED:20251229T212936Z
LAST-MODIFIED:20251229T212936Z
UID:21569-1776862800-1776868200@www.lmvna.org
SUMMARY:Loss of Spouse or Partner
DESCRIPTION:Wednesdays\, 1 – 2:30pm (Camarillo\, In-Person)\nLivingston Memorial Visiting Nurse Association\, Hairs Conference Room\, 1996 Eastman Ave.\, Ventura.\nPlease call Camarillo Office or click here for details or to register.
URL:https://www.lmvna.org/es/event/loss-of-spouse-or-partner-56/
LOCATION:Camarillo Grief Center\, 400 Rosewood Ave #102\, Camarillo\, CA\, 93010
CATEGORIES:Grief & Bereavement Support Groups
END:VEVENT
BEGIN:VEVENT
DTSTART;TZID=America/Los_Angeles:20260422T133000
DTEND;TZID=America/Los_Angeles:20260422T150000
DTSTAMP:20260422T031945
CREATED:20251230T002832Z
LAST-MODIFIED:20251230T002832Z
UID:21703-1776864600-1776870000@www.lmvna.org
SUMMARY:Living With Type 2 and Pre-Diabetes Seminar - Thousand Oaks
DESCRIPTION:No registration is necessary.\n4th Wednesday of the month.\nGoebel Adult Community Center\, Foothill Room\n1385 East Janss Rd.
URL:https://www.lmvna.org/es/event/living-with-type-2-and-pre-diabetes-seminar-thousand-oaks-5/
LOCATION:Goebel Adult Community Center\, Foothill Room\, 1385 East Janss Rd.\, United States
CATEGORIES:Free Community Classes
END:VEVENT
BEGIN:VEVENT
DTSTART;TZID=America/Los_Angeles:20260422T183000
DTEND;TZID=America/Los_Angeles:20260422T200000
DTSTAMP:20260422T031945
CREATED:20251229T200155Z
LAST-MODIFIED:20251229T200155Z
UID:21432-1776882600-1776888000@www.lmvna.org
SUMMARY:Adult Loss of Parent
DESCRIPTION:2nd and 4th Wednesdays of every month from 6:30 to 8 pm\, Camarillo. \nPlease call Camarillo Office or click here for details or to register. \nFree of charge and open to individuals who have experienced a loss. Meetings focus on helping you improve understanding of the grief process\, decrease emotional pain\, receive emotional and educational support and rediscover a sense of hope. Drop-ins are welcome. 
URL:https://www.lmvna.org/es/event/adult-loss-of-parent-9/
LOCATION:Camarillo Grief Center\, 400 Rosewood Ave #102\, Camarillo\, CA\, 93010
CATEGORIES:Grief & Bereavement Support Groups
END:VEVENT
END:VCALENDAR