BEGIN:VCALENDAR
VERSION:2.0
PRODID:-//Livingston - ECPv6.15.11//NONSGML v1.0//EN
CALSCALE:GREGORIAN
METHOD:PUBLISH
X-WR-CALNAME:Livingston
X-ORIGINAL-URL:https://www.lmvna.org/es
X-WR-CALDESC:Eventos para Livingston
REFRESH-INTERVAL;VALUE=DURATION:PT1H
X-Robots-Tag:noindex
X-PUBLISHED-TTL:PT1H
BEGIN:VTIMEZONE
TZID:America/Los_Angeles
BEGIN:DAYLIGHT
TZOFFSETFROM:-0800
TZOFFSETTO:-0700
TZNAME:PDT
DTSTART:20250309T100000
END:DAYLIGHT
BEGIN:STANDARD
TZOFFSETFROM:-0700
TZOFFSETTO:-0800
TZNAME:PST
DTSTART:20251102T090000
END:STANDARD
BEGIN:DAYLIGHT
TZOFFSETFROM:-0800
TZOFFSETTO:-0700
TZNAME:PDT
DTSTART:20260308T100000
END:DAYLIGHT
BEGIN:STANDARD
TZOFFSETFROM:-0700
TZOFFSETTO:-0800
TZNAME:PST
DTSTART:20261101T090000
END:STANDARD
BEGIN:DAYLIGHT
TZOFFSETFROM:-0800
TZOFFSETTO:-0700
TZNAME:PDT
DTSTART:20270314T100000
END:DAYLIGHT
BEGIN:STANDARD
TZOFFSETFROM:-0700
TZOFFSETTO:-0800
TZNAME:PST
DTSTART:20271107T090000
END:STANDARD
END:VTIMEZONE
BEGIN:VEVENT
DTSTART;TZID=America/Los_Angeles:20260421T103000
DTEND;TZID=America/Los_Angeles:20260421T120000
DTSTAMP:20260419T143422
CREATED:20251222T200120Z
LAST-MODIFIED:20251222T200120Z
UID:21303-1776767400-1776772800@www.lmvna.org
SUMMARY:General Bereavement - Ojai
DESCRIPTION:Every Tuesday\, 10:30 am – Noon in Ojai. \nTo register\, click here or call Camarillo Office to sign up and get more details.  \nFree of charge and open to individuals who have experienced a loss. Meetings focus on helping you improve understanding of the grief process\, decrease emotional pain\, receive emotional and educational support and rediscover a sense of hope. Drop-ins are welcome.
URL:https://www.lmvna.org/es/event/general-bereavement-ojai-21/
LOCATION:OJAI UNITED METHODIST CHURCH\, 170 Church Road\, Ojai\, CA\, 93023\, United States
CATEGORIES:Grief & Bereavement Support Groups
END:VEVENT
BEGIN:VEVENT
DTSTART;TZID=America/Los_Angeles:20260421T180000
DTEND;TZID=America/Los_Angeles:20260421T193000
DTSTAMP:20260419T143422
CREATED:20251229T205300Z
LAST-MODIFIED:20251229T205300Z
UID:21517-1776794400-1776799800@www.lmvna.org
SUMMARY:Loss of Spouse or Partner
DESCRIPTION:Tuesdays\, 6 – 7:30PM (Camarillo\, In-Person)\nLivingston Memorial Visiting Nurse Association\, Hairs Conference Room\, 1996 Eastman Ave.\, Ventura.\nPlease call Camarillo Office or click here for details or to register.
URL:https://www.lmvna.org/es/event/loss-of-spouse-or-partner-26/
LOCATION:Camarillo Grief Center\, 400 Rosewood Ave #102\, Camarillo\, CA\, 93010
CATEGORIES:Grief & Bereavement Support Groups
END:VEVENT
BEGIN:VEVENT
DTSTART;TZID=America/Los_Angeles:20260422T130000
DTEND;TZID=America/Los_Angeles:20260422T143000
DTSTAMP:20260419T143422
CREATED:20251229T212936Z
LAST-MODIFIED:20251229T212936Z
UID:21569-1776862800-1776868200@www.lmvna.org
SUMMARY:Loss of Spouse or Partner
DESCRIPTION:Wednesdays\, 1 – 2:30pm (Camarillo\, In-Person)\nLivingston Memorial Visiting Nurse Association\, Hairs Conference Room\, 1996 Eastman Ave.\, Ventura.\nPlease call Camarillo Office or click here for details or to register.
URL:https://www.lmvna.org/es/event/loss-of-spouse-or-partner-56/
LOCATION:Camarillo Grief Center\, 400 Rosewood Ave #102\, Camarillo\, CA\, 93010
CATEGORIES:Grief & Bereavement Support Groups
END:VEVENT
BEGIN:VEVENT
DTSTART;TZID=America/Los_Angeles:20260422T133000
DTEND;TZID=America/Los_Angeles:20260422T150000
DTSTAMP:20260419T143422
CREATED:20251230T002832Z
LAST-MODIFIED:20251230T002832Z
UID:21703-1776864600-1776870000@www.lmvna.org
SUMMARY:Living With Type 2 and Pre-Diabetes Seminar - Thousand Oaks
DESCRIPTION:No registration is necessary.\n4th Wednesday of the month.\nGoebel Adult Community Center\, Foothill Room\n1385 East Janss Rd.
URL:https://www.lmvna.org/es/event/living-with-type-2-and-pre-diabetes-seminar-thousand-oaks-5/
LOCATION:Goebel Adult Community Center\, Foothill Room\, 1385 East Janss Rd.\, United States
CATEGORIES:Free Community Classes
END:VEVENT
BEGIN:VEVENT
DTSTART;TZID=America/Los_Angeles:20260422T183000
DTEND;TZID=America/Los_Angeles:20260422T200000
DTSTAMP:20260419T143422
CREATED:20251229T200155Z
LAST-MODIFIED:20251229T200155Z
UID:21432-1776882600-1776888000@www.lmvna.org
SUMMARY:Adult Loss of Parent
DESCRIPTION:2nd and 4th Wednesdays of every month from 6:30 to 8 pm\, Camarillo. \nPlease call Camarillo Office or click here for details or to register. \nFree of charge and open to individuals who have experienced a loss. Meetings focus on helping you improve understanding of the grief process\, decrease emotional pain\, receive emotional and educational support and rediscover a sense of hope. Drop-ins are welcome. 
URL:https://www.lmvna.org/es/event/adult-loss-of-parent-9/
LOCATION:Camarillo Grief Center\, 400 Rosewood Ave #102\, Camarillo\, CA\, 93010
CATEGORIES:Grief & Bereavement Support Groups
END:VEVENT
BEGIN:VEVENT
DTSTART;TZID=America/Los_Angeles:20260423T103000
DTEND;TZID=America/Los_Angeles:20260423T120000
DTSTAMP:20260419T143422
CREATED:20251229T214846Z
LAST-MODIFIED:20251229T215859Z
UID:21609-1776940200-1776945600@www.lmvna.org
SUMMARY:Loss of Spouse or Partner
DESCRIPTION:Thursdays\, 10:30am – Noon (Ventura\, In-Person)\nLivingston Memorial Visiting Nurse Association\, Hairs Conference Room\, 1996 Eastman Ave.\, Ventura.\nPlease call Camarillo Office or click here for details or to register.
URL:https://www.lmvna.org/es/event/loss-of-spouse-or-partner-76/
LOCATION:Livingston Memorial Visiting Nurse Association\, 1996 Eastman Ave #101\, Ventura\, 93003\, United States
CATEGORIES:Grief & Bereavement Support Groups
END:VEVENT
BEGIN:VEVENT
DTSTART;TZID=America/Los_Angeles:20260423T140000
DTEND;TZID=America/Los_Angeles:20260423T153000
DTSTAMP:20260419T143422
CREATED:20251229T202423Z
LAST-MODIFIED:20251229T202423Z
UID:21474-1776952800-1776958200@www.lmvna.org
SUMMARY:Living Life Widowed
DESCRIPTION:Every Thursday of every month from 2 to 3:30 pm\, Camarillo.\nPlease call Camarillo Office or click here for details or to register.
URL:https://www.lmvna.org/es/event/living-life-widowed-17/
LOCATION:Camarillo Grief Center\, 400 Rosewood Ave #102\, Camarillo\, CA\, 93010
CATEGORIES:Grief & Bereavement Support Groups
END:VEVENT
BEGIN:VEVENT
DTSTART;TZID=America/Los_Angeles:20260423T180000
DTEND;TZID=America/Los_Angeles:20260423T193000
DTSTAMP:20260419T143422
CREATED:20251229T194621Z
LAST-MODIFIED:20251229T194621Z
UID:21396-1776967200-1776972600@www.lmvna.org
SUMMARY:General Bereavement - Zoom
DESCRIPTION:Every Thursday\, 6 – 7:30 pm via Zoom. \nTo register\, click here or call Camarillo Office to sign up and get more details.  \nFree of charge and open to individuals who have experienced a loss. Meetings focus on helping you improve understanding of the grief process\, decrease emotional pain\, receive emotional and educational support and rediscover a sense of hope. Drop-ins are welcome. 
URL:https://www.lmvna.org/es/event/general-bereavement-zoom-22/
LOCATION:Online\, Ventura County\, 93010\, United States
CATEGORIES:Grief & Bereavement Support Groups
END:VEVENT
BEGIN:VEVENT
DTSTART;TZID=America/Los_Angeles:20260428T103000
DTEND;TZID=America/Los_Angeles:20260428T120000
DTSTAMP:20260419T143422
CREATED:20251222T200320Z
LAST-MODIFIED:20251222T200320Z
UID:21305-1777372200-1777377600@www.lmvna.org
SUMMARY:General Bereavement - Ojai
DESCRIPTION:Every Tuesday\, 10:30 am – Noon in Ojai. \nTo register\, click here or call Camarillo Office to sign up and get more details.  \nFree of charge and open to individuals who have experienced a loss. Meetings focus on helping you improve understanding of the grief process\, decrease emotional pain\, receive emotional and educational support and rediscover a sense of hope. Drop-ins are welcome.
URL:https://www.lmvna.org/es/event/general-bereavement-ojai-22/
LOCATION:OJAI UNITED METHODIST CHURCH\, 170 Church Road\, Ojai\, CA\, 93023\, United States
CATEGORIES:Grief & Bereavement Support Groups
END:VEVENT
BEGIN:VEVENT
DTSTART;TZID=America/Los_Angeles:20260428T180000
DTEND;TZID=America/Los_Angeles:20260428T193000
DTSTAMP:20260419T143422
CREATED:20251229T205340Z
LAST-MODIFIED:20251229T205340Z
UID:21519-1777399200-1777404600@www.lmvna.org
SUMMARY:Loss of Spouse or Partner
DESCRIPTION:Tuesdays\, 6 – 7:30PM (Camarillo\, In-Person)\nLivingston Memorial Visiting Nurse Association\, Hairs Conference Room\, 1996 Eastman Ave.\, Ventura.\nPlease call Camarillo Office or click here for details or to register.
URL:https://www.lmvna.org/es/event/loss-of-spouse-or-partner-27/
LOCATION:Camarillo Grief Center\, 400 Rosewood Ave #102\, Camarillo\, CA\, 93010
CATEGORIES:Grief & Bereavement Support Groups
END:VEVENT
BEGIN:VEVENT
DTSTART;TZID=America/Los_Angeles:20260429T130000
DTEND;TZID=America/Los_Angeles:20260429T143000
DTSTAMP:20260419T143422
CREATED:20251229T213014Z
LAST-MODIFIED:20251229T213014Z
UID:21571-1777467600-1777473000@www.lmvna.org
SUMMARY:Loss of Spouse or Partner
DESCRIPTION:Wednesdays\, 1 – 2:30pm (Camarillo\, In-Person)\nLivingston Memorial Visiting Nurse Association\, Hairs Conference Room\, 1996 Eastman Ave.\, Ventura.\nPlease call Camarillo Office or click here for details or to register.
URL:https://www.lmvna.org/es/event/loss-of-spouse-or-partner-57/
LOCATION:Camarillo Grief Center\, 400 Rosewood Ave #102\, Camarillo\, CA\, 93010
CATEGORIES:Grief & Bereavement Support Groups
END:VEVENT
BEGIN:VEVENT
DTSTART;TZID=America/Los_Angeles:20260430T103000
DTEND;TZID=America/Los_Angeles:20260430T120000
DTSTAMP:20260419T143422
CREATED:20251229T215953Z
LAST-MODIFIED:20251229T215953Z
UID:21615-1777545000-1777550400@www.lmvna.org
SUMMARY:Loss of Spouse or Partner
DESCRIPTION:Thursdays\, 10:30am – Noon (Ventura\, In-Person)\nLivingston Memorial Visiting Nurse Association\, Hairs Conference Room\, 1996 Eastman Ave.\, Ventura.\nPlease call Camarillo Office or click here for details or to register.
URL:https://www.lmvna.org/es/event/loss-of-spouse-or-partner-79/
LOCATION:Livingston Memorial Visiting Nurse Association\, 1996 Eastman Ave #101\, Ventura\, 93003\, United States
CATEGORIES:Grief & Bereavement Support Groups
END:VEVENT
BEGIN:VEVENT
DTSTART;TZID=America/Los_Angeles:20260430T140000
DTEND;TZID=America/Los_Angeles:20260430T153000
DTSTAMP:20260419T143422
CREATED:20251229T202500Z
LAST-MODIFIED:20251229T202500Z
UID:21476-1777557600-1777563000@www.lmvna.org
SUMMARY:Living Life Widowed
DESCRIPTION:Every Thursday of every month from 2 to 3:30 pm\, Camarillo.\nPlease call Camarillo Office or click here for details or to register.
URL:https://www.lmvna.org/es/event/living-life-widowed-18/
LOCATION:Camarillo Grief Center\, 400 Rosewood Ave #102\, Camarillo\, CA\, 93010
CATEGORIES:Grief & Bereavement Support Groups
END:VEVENT
BEGIN:VEVENT
DTSTART;TZID=America/Los_Angeles:20260430T180000
DTEND;TZID=America/Los_Angeles:20260430T193000
DTSTAMP:20260419T143422
CREATED:20251229T194743Z
LAST-MODIFIED:20251229T194743Z
UID:21398-1777572000-1777577400@www.lmvna.org
SUMMARY:General Bereavement - Zoom
DESCRIPTION:Every Thursday\, 6 – 7:30 pm via Zoom. \nTo register\, click here or call Camarillo Office to sign up and get more details.  \nFree of charge and open to individuals who have experienced a loss. Meetings focus on helping you improve understanding of the grief process\, decrease emotional pain\, receive emotional and educational support and rediscover a sense of hope. Drop-ins are welcome. 
URL:https://www.lmvna.org/es/event/general-bereavement-zoom-23/
LOCATION:Online\, Ventura County\, 93010\, United States
CATEGORIES:Grief & Bereavement Support Groups
END:VEVENT
END:VCALENDAR