BEGIN:VCALENDAR
VERSION:2.0
PRODID:-//Livingston - ECPv6.15.11//NONSGML v1.0//EN
CALSCALE:GREGORIAN
METHOD:PUBLISH
X-ORIGINAL-URL:https://www.lmvna.org
X-WR-CALDESC:Events for Livingston
REFRESH-INTERVAL;VALUE=DURATION:PT1H
X-Robots-Tag:noindex
X-PUBLISHED-TTL:PT1H
BEGIN:VTIMEZONE
TZID:America/Los_Angeles
BEGIN:DAYLIGHT
TZOFFSETFROM:-0800
TZOFFSETTO:-0700
TZNAME:PDT
DTSTART:20250309T100000
END:DAYLIGHT
BEGIN:STANDARD
TZOFFSETFROM:-0700
TZOFFSETTO:-0800
TZNAME:PST
DTSTART:20251102T090000
END:STANDARD
BEGIN:DAYLIGHT
TZOFFSETFROM:-0800
TZOFFSETTO:-0700
TZNAME:PDT
DTSTART:20260308T100000
END:DAYLIGHT
BEGIN:STANDARD
TZOFFSETFROM:-0700
TZOFFSETTO:-0800
TZNAME:PST
DTSTART:20261101T090000
END:STANDARD
BEGIN:DAYLIGHT
TZOFFSETFROM:-0800
TZOFFSETTO:-0700
TZNAME:PDT
DTSTART:20270314T100000
END:DAYLIGHT
BEGIN:STANDARD
TZOFFSETFROM:-0700
TZOFFSETTO:-0800
TZNAME:PST
DTSTART:20271107T090000
END:STANDARD
END:VTIMEZONE
BEGIN:VEVENT
DTSTART;TZID=America/Los_Angeles:20260506T103000
DTEND;TZID=America/Los_Angeles:20260506T120000
DTSTAMP:20260421T080143
CREATED:20251230T002036Z
LAST-MODIFIED:20251230T002036Z
UID:21693-1778063400-1778068800@www.lmvna.org
SUMMARY:Living With Type 2 & Pre-Diabetes - Free Class (Simi Valley)
DESCRIPTION:Free class about managing life with Type 2 and pre-diabetes. Learn about meal planning\, exercise\, blood sugar monitoring\, medication\, and new development.\nSimi Valley Senior Center\, Game Room\n3900 Avenida Simi \nNO REGISTRATION NECESSARY.
URL:https://www.lmvna.org/event/living-with-type-2-pre-diabetes-free-class-simi-valley-6/
LOCATION:Simi Valley Senior Center\, Game Room\, 3900 Avenida Simi\, United States
CATEGORIES:Free Community Classes
END:VEVENT
BEGIN:VEVENT
DTSTART;TZID=America/Los_Angeles:20260506T143000
DTEND;TZID=America/Los_Angeles:20260506T160000
DTSTAMP:20260421T080143
CREATED:20251229T224007Z
LAST-MODIFIED:20251229T224007Z
UID:21681-1778077800-1778083200@www.lmvna.org
SUMMARY:Living With Type 2 & Pre-Diabetes - Free Class (Camarillo)
DESCRIPTION:Free class about managing life with Type 2 and pre-diabetes. Learn about meal planning\, exercise\, blood sugar monitoring\, medication\, and new development.\nCommunity Center\, Room #3\n1605 E Burnley St. \nNO REGISTRATION NECESSARY.
URL:https://www.lmvna.org/event/living-with-type-2-pre-diabetes-free-class-camarillo-6/
LOCATION:Camarillo Community Center\, Room #3\, 1605 Burnley St.\, United States
CATEGORIES:Free Community Classes
END:VEVENT
BEGIN:VEVENT
DTSTART;TZID=America/Los_Angeles:20260527T133000
DTEND;TZID=America/Los_Angeles:20260527T150000
DTSTAMP:20260421T080143
CREATED:20251230T002908Z
LAST-MODIFIED:20260107T192416Z
UID:21705-1779888600-1779894000@www.lmvna.org
SUMMARY:Living With Type 2 and Pre-Diabetes Seminar - Thousand Oaks
DESCRIPTION:No registration is necessary.\n4th Wednesday of the month.\nGoebel Adult Community Center\, Foothill Room\n1385 East Janss Rd.
URL:https://www.lmvna.org/event/living-with-type-2-and-pre-diabetes-seminar-thousand-oaks-6/
LOCATION:Goebel Adult Community Center\, Foothill Room\, 1385 East Janss Rd.\, United States
CATEGORIES:Free Community Classes
END:VEVENT
END:VCALENDAR