BEGIN:VCALENDAR
VERSION:2.0
PRODID:-//Livingston - ECPv6.15.11//NONSGML v1.0//EN
CALSCALE:GREGORIAN
METHOD:PUBLISH
X-ORIGINAL-URL:https://www.lmvna.org
X-WR-CALDESC:Events for Livingston
REFRESH-INTERVAL;VALUE=DURATION:PT1H
X-Robots-Tag:noindex
X-PUBLISHED-TTL:PT1H
BEGIN:VTIMEZONE
TZID:America/Los_Angeles
BEGIN:DAYLIGHT
TZOFFSETFROM:-0800
TZOFFSETTO:-0700
TZNAME:PDT
DTSTART:20250309T100000
END:DAYLIGHT
BEGIN:STANDARD
TZOFFSETFROM:-0700
TZOFFSETTO:-0800
TZNAME:PST
DTSTART:20251102T090000
END:STANDARD
BEGIN:DAYLIGHT
TZOFFSETFROM:-0800
TZOFFSETTO:-0700
TZNAME:PDT
DTSTART:20260308T100000
END:DAYLIGHT
BEGIN:STANDARD
TZOFFSETFROM:-0700
TZOFFSETTO:-0800
TZNAME:PST
DTSTART:20261101T090000
END:STANDARD
BEGIN:DAYLIGHT
TZOFFSETFROM:-0800
TZOFFSETTO:-0700
TZNAME:PDT
DTSTART:20270314T100000
END:DAYLIGHT
BEGIN:STANDARD
TZOFFSETFROM:-0700
TZOFFSETTO:-0800
TZNAME:PST
DTSTART:20271107T090000
END:STANDARD
END:VTIMEZONE
BEGIN:VEVENT
DTSTART;TZID=America/Los_Angeles:20260505T103000
DTEND;TZID=America/Los_Angeles:20260505T120000
DTSTAMP:20260421T045741
CREATED:20251222T200531Z
LAST-MODIFIED:20251222T200531Z
UID:21307-1777977000-1777982400@www.lmvna.org
SUMMARY:General Bereavement - Ojai
DESCRIPTION:Every Tuesday\, 10:30 am – Noon in Ojai. \nTo register\, click here or call Camarillo Office to sign up and get more details.  \nFree of charge and open to individuals who have experienced a loss. Meetings focus on helping you improve understanding of the grief process\, decrease emotional pain\, receive emotional and educational support and rediscover a sense of hope. Drop-ins are welcome.
URL:https://www.lmvna.org/event/general-bereavement-ojai-23/
LOCATION:OJAI UNITED METHODIST CHURCH\, 170 Church Road\, Ojai\, CA\, 93023\, United States
CATEGORIES:Grief & Bereavement Support Groups
END:VEVENT
BEGIN:VEVENT
DTSTART;TZID=America/Los_Angeles:20260505T180000
DTEND;TZID=America/Los_Angeles:20260505T193000
DTSTAMP:20260421T045741
CREATED:20251229T205411Z
LAST-MODIFIED:20251229T205411Z
UID:21521-1778004000-1778009400@www.lmvna.org
SUMMARY:Loss of Spouse or Partner
DESCRIPTION:Tuesdays\, 6 – 7:30PM (Camarillo\, In-Person)\nLivingston Memorial Visiting Nurse Association\, Hairs Conference Room\, 1996 Eastman Ave.\, Ventura.\nPlease call Camarillo Office or click here for details or to register.
URL:https://www.lmvna.org/event/loss-of-spouse-or-partner-28/
LOCATION:Camarillo Grief Center\, 400 Rosewood Ave #102\, Camarillo\, CA\, 93010
CATEGORIES:Grief & Bereavement Support Groups
END:VEVENT
BEGIN:VEVENT
DTSTART;TZID=America/Los_Angeles:20260506T103000
DTEND;TZID=America/Los_Angeles:20260506T120000
DTSTAMP:20260421T045741
CREATED:20251230T002036Z
LAST-MODIFIED:20251230T002036Z
UID:21693-1778063400-1778068800@www.lmvna.org
SUMMARY:Living With Type 2 & Pre-Diabetes - Free Class (Simi Valley)
DESCRIPTION:Free class about managing life with Type 2 and pre-diabetes. Learn about meal planning\, exercise\, blood sugar monitoring\, medication\, and new development.\nSimi Valley Senior Center\, Game Room\n3900 Avenida Simi \nNO REGISTRATION NECESSARY.
URL:https://www.lmvna.org/event/living-with-type-2-pre-diabetes-free-class-simi-valley-6/
LOCATION:Simi Valley Senior Center\, Game Room\, 3900 Avenida Simi\, United States
CATEGORIES:Free Community Classes
END:VEVENT
BEGIN:VEVENT
DTSTART;TZID=America/Los_Angeles:20260506T130000
DTEND;TZID=America/Los_Angeles:20260506T143000
DTSTAMP:20260421T045741
CREATED:20251229T213057Z
LAST-MODIFIED:20251229T213057Z
UID:21573-1778072400-1778077800@www.lmvna.org
SUMMARY:Loss of Spouse or Partner
DESCRIPTION:Wednesdays\, 1 – 2:30pm (Camarillo\, In-Person)\nLivingston Memorial Visiting Nurse Association\, Hairs Conference Room\, 1996 Eastman Ave.\, Ventura.\nPlease call Camarillo Office or click here for details or to register.
URL:https://www.lmvna.org/event/loss-of-spouse-or-partner-58/
LOCATION:Camarillo Grief Center\, 400 Rosewood Ave #102\, Camarillo\, CA\, 93010
CATEGORIES:Grief & Bereavement Support Groups
END:VEVENT
BEGIN:VEVENT
DTSTART;TZID=America/Los_Angeles:20260506T143000
DTEND;TZID=America/Los_Angeles:20260506T160000
DTSTAMP:20260421T045741
CREATED:20251229T224007Z
LAST-MODIFIED:20251229T224007Z
UID:21681-1778077800-1778083200@www.lmvna.org
SUMMARY:Living With Type 2 & Pre-Diabetes - Free Class (Camarillo)
DESCRIPTION:Free class about managing life with Type 2 and pre-diabetes. Learn about meal planning\, exercise\, blood sugar monitoring\, medication\, and new development.\nCommunity Center\, Room #3\n1605 E Burnley St. \nNO REGISTRATION NECESSARY.
URL:https://www.lmvna.org/event/living-with-type-2-pre-diabetes-free-class-camarillo-6/
LOCATION:Camarillo Community Center\, Room #3\, 1605 Burnley St.\, United States
CATEGORIES:Free Community Classes
END:VEVENT
BEGIN:VEVENT
DTSTART;TZID=America/Los_Angeles:20260506T183000
DTEND;TZID=America/Los_Angeles:20260506T200000
DTSTAMP:20260421T045741
CREATED:20251229T221115Z
LAST-MODIFIED:20251229T221115Z
UID:21641-1778092200-1778097600@www.lmvna.org
SUMMARY:Survivors of Suicide Loss
DESCRIPTION:1st and 3rd Wednesdays\, Camarillo (In-Person)\n6:30 – 8 pm\nPlease call Camarillo Office or click here for details or to register.
URL:https://www.lmvna.org/event/survivors-of-suicide-loss-12/
LOCATION:Camarillo Grief Center\, 400 Rosewood Ave #102\, Camarillo\, CA\, 93010
CATEGORIES:Grief & Bereavement Support Groups
END:VEVENT
BEGIN:VEVENT
DTSTART;TZID=America/Los_Angeles:20260507T103000
DTEND;TZID=America/Los_Angeles:20260507T120000
DTSTAMP:20260421T045741
CREATED:20251229T220022Z
LAST-MODIFIED:20251229T220136Z
UID:21617-1778149800-1778155200@www.lmvna.org
SUMMARY:Loss of Spouse or Partner
DESCRIPTION:Thursdays\, 10:30am – Noon (Ventura\, In-Person)\nLivingston Memorial Visiting Nurse Association\, Hairs Conference Room\, 1996 Eastman Ave.\, Ventura.\nPlease call Camarillo Office or click here for details or to register.
URL:https://www.lmvna.org/event/loss-of-spouse-or-partner-80/
LOCATION:Livingston Memorial Visiting Nurse Association\, 1996 Eastman Ave #101\, Ventura\, 93003\, United States
CATEGORIES:Grief & Bereavement Support Groups
END:VEVENT
BEGIN:VEVENT
DTSTART;TZID=America/Los_Angeles:20260507T140000
DTEND;TZID=America/Los_Angeles:20260507T153000
DTSTAMP:20260421T045741
CREATED:20251229T202552Z
LAST-MODIFIED:20251229T202552Z
UID:21478-1778162400-1778167800@www.lmvna.org
SUMMARY:Living Life Widowed
DESCRIPTION:Every Thursday of every month from 2 to 3:30 pm\, Camarillo.\nPlease call Camarillo Office or click here for details or to register.
URL:https://www.lmvna.org/event/living-life-widowed-19/
LOCATION:Camarillo Grief Center\, 400 Rosewood Ave #102\, Camarillo\, CA\, 93010
CATEGORIES:Grief & Bereavement Support Groups
END:VEVENT
BEGIN:VEVENT
DTSTART;TZID=America/Los_Angeles:20260507T180000
DTEND;TZID=America/Los_Angeles:20260507T193000
DTSTAMP:20260421T045741
CREATED:20251229T194812Z
LAST-MODIFIED:20251229T194812Z
UID:21400-1778176800-1778182200@www.lmvna.org
SUMMARY:General Bereavement - Zoom
DESCRIPTION:Every Thursday\, 6 – 7:30 pm via Zoom. \nTo register\, click here or call Camarillo Office to sign up and get more details.  \nFree of charge and open to individuals who have experienced a loss. Meetings focus on helping you improve understanding of the grief process\, decrease emotional pain\, receive emotional and educational support and rediscover a sense of hope. Drop-ins are welcome. 
URL:https://www.lmvna.org/event/general-bereavement-zoom-24/
LOCATION:Online\, Ventura County\, 93010\, United States
CATEGORIES:Grief & Bereavement Support Groups
END:VEVENT
BEGIN:VEVENT
DTSTART;TZID=America/Los_Angeles:20260512T103000
DTEND;TZID=America/Los_Angeles:20260512T120000
DTSTAMP:20260421T045741
CREATED:20251222T200636Z
LAST-MODIFIED:20251222T200636Z
UID:21309-1778581800-1778587200@www.lmvna.org
SUMMARY:General Bereavement - Ojai
DESCRIPTION:Every Tuesday\, 10:30 am – Noon in Ojai. \nTo register\, click here or call Camarillo Office to sign up and get more details.  \nFree of charge and open to individuals who have experienced a loss. Meetings focus on helping you improve understanding of the grief process\, decrease emotional pain\, receive emotional and educational support and rediscover a sense of hope. Drop-ins are welcome.
URL:https://www.lmvna.org/event/general-bereavement-ojai-24/
LOCATION:OJAI UNITED METHODIST CHURCH\, 170 Church Road\, Ojai\, CA\, 93023\, United States
CATEGORIES:Grief & Bereavement Support Groups
END:VEVENT
BEGIN:VEVENT
DTSTART;TZID=America/Los_Angeles:20260512T150000
DTEND;TZID=America/Los_Angeles:20260512T160000
DTSTAMP:20260421T045741
CREATED:20251229T222847Z
LAST-MODIFIED:20251229T222847Z
UID:21665-1778598000-1778601600@www.lmvna.org
SUMMARY:Joint Replacement Class - Thousand Oaks
DESCRIPTION:Free class on what to expect pre and post surgery.\nCall (805) 642-0239 or Register Here.
URL:https://www.lmvna.org/event/joint-replacement-class-thousand-oaks-3/
LOCATION:Ventura County Health Care Agency\, Community Room\, 125 West Thousand Oaks Blvd.\, Ventura\, United States
CATEGORIES:Free Community Classes
END:VEVENT
BEGIN:VEVENT
DTSTART;TZID=America/Los_Angeles:20260512T180000
DTEND;TZID=America/Los_Angeles:20260512T193000
DTSTAMP:20260421T045741
CREATED:20251229T205440Z
LAST-MODIFIED:20251229T205440Z
UID:21523-1778608800-1778614200@www.lmvna.org
SUMMARY:Loss of Spouse or Partner
DESCRIPTION:Tuesdays\, 6 – 7:30PM (Camarillo\, In-Person)\nLivingston Memorial Visiting Nurse Association\, Hairs Conference Room\, 1996 Eastman Ave.\, Ventura.\nPlease call Camarillo Office or click here for details or to register.
URL:https://www.lmvna.org/event/loss-of-spouse-or-partner-29/
LOCATION:Camarillo Grief Center\, 400 Rosewood Ave #102\, Camarillo\, CA\, 93010
CATEGORIES:Grief & Bereavement Support Groups
END:VEVENT
BEGIN:VEVENT
DTSTART;TZID=America/Los_Angeles:20260513T130000
DTEND;TZID=America/Los_Angeles:20260513T143000
DTSTAMP:20260421T045741
CREATED:20251229T213136Z
LAST-MODIFIED:20251229T213136Z
UID:21575-1778677200-1778682600@www.lmvna.org
SUMMARY:Loss of Spouse or Partner
DESCRIPTION:Wednesdays\, 1 – 2:30pm (Camarillo\, In-Person)\nLivingston Memorial Visiting Nurse Association\, Hairs Conference Room\, 1996 Eastman Ave.\, Ventura.\nPlease call Camarillo Office or click here for details or to register.
URL:https://www.lmvna.org/event/loss-of-spouse-or-partner-59/
LOCATION:Camarillo Grief Center\, 400 Rosewood Ave #102\, Camarillo\, CA\, 93010
CATEGORIES:Grief & Bereavement Support Groups
END:VEVENT
BEGIN:VEVENT
DTSTART;TZID=America/Los_Angeles:20260513T183000
DTEND;TZID=America/Los_Angeles:20260513T200000
DTSTAMP:20260421T045741
CREATED:20251229T200237Z
LAST-MODIFIED:20251229T200237Z
UID:21434-1778697000-1778702400@www.lmvna.org
SUMMARY:Adult Loss of Parent
DESCRIPTION:2nd and 4th Wednesdays of every month from 6:30 to 8 pm\, Camarillo. \nPlease call Camarillo Office or click here for details or to register. \nFree of charge and open to individuals who have experienced a loss. Meetings focus on helping you improve understanding of the grief process\, decrease emotional pain\, receive emotional and educational support and rediscover a sense of hope. Drop-ins are welcome. 
URL:https://www.lmvna.org/event/adult-loss-of-parent-10/
LOCATION:Camarillo Grief Center\, 400 Rosewood Ave #102\, Camarillo\, CA\, 93010
CATEGORIES:Grief & Bereavement Support Groups
END:VEVENT
BEGIN:VEVENT
DTSTART;TZID=America/Los_Angeles:20260514T103000
DTEND;TZID=America/Los_Angeles:20260514T120000
DTSTAMP:20260421T045741
CREATED:20251229T220152Z
LAST-MODIFIED:20251229T220152Z
UID:21619-1778754600-1778760000@www.lmvna.org
SUMMARY:Loss of Spouse or Partner
DESCRIPTION:Thursdays\, 10:30am – Noon (Ventura\, In-Person)\nLivingston Memorial Visiting Nurse Association\, Hairs Conference Room\, 1996 Eastman Ave.\, Ventura.\nPlease call Camarillo Office or click here for details or to register.
URL:https://www.lmvna.org/event/loss-of-spouse-or-partner-81/
LOCATION:Livingston Memorial Visiting Nurse Association\, 1996 Eastman Ave #101\, Ventura\, 93003\, United States
CATEGORIES:Grief & Bereavement Support Groups
END:VEVENT
BEGIN:VEVENT
DTSTART;TZID=America/Los_Angeles:20260514T140000
DTEND;TZID=America/Los_Angeles:20260514T153000
DTSTAMP:20260421T045741
CREATED:20251229T202631Z
LAST-MODIFIED:20251229T202631Z
UID:21480-1778767200-1778772600@www.lmvna.org
SUMMARY:Living Life Widowed
DESCRIPTION:Every Thursday of every month from 2 to 3:30 pm\, Camarillo.\nPlease call Camarillo Office or click here for details or to register.
URL:https://www.lmvna.org/event/living-life-widowed-20/
LOCATION:Camarillo Grief Center\, 400 Rosewood Ave #102\, Camarillo\, CA\, 93010
CATEGORIES:Grief & Bereavement Support Groups
END:VEVENT
BEGIN:VEVENT
DTSTART;TZID=America/Los_Angeles:20260514T180000
DTEND;TZID=America/Los_Angeles:20260514T193000
DTSTAMP:20260421T045741
CREATED:20251229T194849Z
LAST-MODIFIED:20251229T194849Z
UID:21402-1778781600-1778787000@www.lmvna.org
SUMMARY:General Bereavement - Zoom
DESCRIPTION:Every Thursday\, 6 – 7:30 pm via Zoom. \nTo register\, click here or call Camarillo Office to sign up and get more details.  \nFree of charge and open to individuals who have experienced a loss. Meetings focus on helping you improve understanding of the grief process\, decrease emotional pain\, receive emotional and educational support and rediscover a sense of hope. Drop-ins are welcome. 
URL:https://www.lmvna.org/event/general-bereavement-zoom-25/
LOCATION:Online\, Ventura County\, 93010\, United States
CATEGORIES:Grief & Bereavement Support Groups
END:VEVENT
BEGIN:VEVENT
DTSTART;TZID=America/Los_Angeles:20260519T103000
DTEND;TZID=America/Los_Angeles:20260519T120000
DTSTAMP:20260421T045741
CREATED:20251222T200953Z
LAST-MODIFIED:20251222T201121Z
UID:21311-1779186600-1779192000@www.lmvna.org
SUMMARY:General Bereavement - Ojai
DESCRIPTION:Every Tuesday\, 10:30 am – Noon in Ojai. \nTo register\, click here or call Camarillo Office to sign up and get more details.  \nFree of charge and open to individuals who have experienced a loss. Meetings focus on helping you improve understanding of the grief process\, decrease emotional pain\, receive emotional and educational support and rediscover a sense of hope. Drop-ins are welcome.
URL:https://www.lmvna.org/event/general-bereavement-ojai-25/
LOCATION:OJAI UNITED METHODIST CHURCH\, 170 Church Road\, Ojai\, CA\, 93023\, United States
CATEGORIES:Grief & Bereavement Support Groups
END:VEVENT
BEGIN:VEVENT
DTSTART;TZID=America/Los_Angeles:20260519T180000
DTEND;TZID=America/Los_Angeles:20260519T193000
DTSTAMP:20260421T045741
CREATED:20251229T205553Z
LAST-MODIFIED:20251229T205553Z
UID:21525-1779213600-1779219000@www.lmvna.org
SUMMARY:Loss of Spouse or Partner
DESCRIPTION:Tuesdays\, 6 – 7:30PM (Camarillo\, In-Person)\nLivingston Memorial Visiting Nurse Association\, Hairs Conference Room\, 1996 Eastman Ave.\, Ventura.\nPlease call Camarillo Office or click here for details or to register.
URL:https://www.lmvna.org/event/loss-of-spouse-or-partner-30/
LOCATION:Camarillo Grief Center\, 400 Rosewood Ave #102\, Camarillo\, CA\, 93010
CATEGORIES:Grief & Bereavement Support Groups
END:VEVENT
BEGIN:VEVENT
DTSTART;TZID=America/Los_Angeles:20260520T130000
DTEND;TZID=America/Los_Angeles:20260520T143000
DTSTAMP:20260421T045741
CREATED:20251229T213215Z
LAST-MODIFIED:20251229T213215Z
UID:21577-1779282000-1779287400@www.lmvna.org
SUMMARY:Loss of Spouse or Partner
DESCRIPTION:Wednesdays\, 1 – 2:30pm (Camarillo\, In-Person)\nLivingston Memorial Visiting Nurse Association\, Hairs Conference Room\, 1996 Eastman Ave.\, Ventura.\nPlease call Camarillo Office or click here for details or to register.
URL:https://www.lmvna.org/event/loss-of-spouse-or-partner-60/
LOCATION:Camarillo Grief Center\, 400 Rosewood Ave #102\, Camarillo\, CA\, 93010
CATEGORIES:Grief & Bereavement Support Groups
END:VEVENT
BEGIN:VEVENT
DTSTART;TZID=America/Los_Angeles:20260520T183000
DTEND;TZID=America/Los_Angeles:20260520T200000
DTSTAMP:20260421T045741
CREATED:20251229T221203Z
LAST-MODIFIED:20251229T221203Z
UID:21643-1779301800-1779307200@www.lmvna.org
SUMMARY:Survivors of Suicide Loss
DESCRIPTION:1st and 3rd Wednesdays\, Camarillo (In-Person)\n6:30 – 8 pm\nPlease call Camarillo Office or click here for details or to register.
URL:https://www.lmvna.org/event/survivors-of-suicide-loss-13/
LOCATION:Camarillo Grief Center\, 400 Rosewood Ave #102\, Camarillo\, CA\, 93010
CATEGORIES:Grief & Bereavement Support Groups
END:VEVENT
BEGIN:VEVENT
DTSTART;TZID=America/Los_Angeles:20260521T103000
DTEND;TZID=America/Los_Angeles:20260521T120000
DTSTAMP:20260421T045741
CREATED:20251229T220221Z
LAST-MODIFIED:20251229T220221Z
UID:21621-1779359400-1779364800@www.lmvna.org
SUMMARY:Loss of Spouse or Partner
DESCRIPTION:Thursdays\, 10:30am – Noon (Ventura\, In-Person)\nLivingston Memorial Visiting Nurse Association\, Hairs Conference Room\, 1996 Eastman Ave.\, Ventura.\nPlease call Camarillo Office or click here for details or to register.
URL:https://www.lmvna.org/event/loss-of-spouse-or-partner-82/
LOCATION:Livingston Memorial Visiting Nurse Association\, 1996 Eastman Ave #101\, Ventura\, 93003\, United States
CATEGORIES:Grief & Bereavement Support Groups
END:VEVENT
BEGIN:VEVENT
DTSTART;TZID=America/Los_Angeles:20260521T140000
DTEND;TZID=America/Los_Angeles:20260521T153000
DTSTAMP:20260421T045741
CREATED:20251229T202715Z
LAST-MODIFIED:20251229T202715Z
UID:21482-1779372000-1779377400@www.lmvna.org
SUMMARY:Living Life Widowed
DESCRIPTION:Every Thursday of every month from 2 to 3:30 pm\, Camarillo.\nPlease call Camarillo Office or click here for details or to register.
URL:https://www.lmvna.org/event/living-life-widowed-21/
LOCATION:Camarillo Grief Center\, 400 Rosewood Ave #102\, Camarillo\, CA\, 93010
CATEGORIES:Grief & Bereavement Support Groups
END:VEVENT
BEGIN:VEVENT
DTSTART;TZID=America/Los_Angeles:20260521T180000
DTEND;TZID=America/Los_Angeles:20260521T193000
DTSTAMP:20260421T045741
CREATED:20251229T194925Z
LAST-MODIFIED:20251229T194925Z
UID:21404-1779386400-1779391800@www.lmvna.org
SUMMARY:General Bereavement - Zoom
DESCRIPTION:Every Thursday\, 6 – 7:30 pm via Zoom. \nTo register\, click here or call Camarillo Office to sign up and get more details.  \nFree of charge and open to individuals who have experienced a loss. Meetings focus on helping you improve understanding of the grief process\, decrease emotional pain\, receive emotional and educational support and rediscover a sense of hope. Drop-ins are welcome. 
URL:https://www.lmvna.org/event/general-bereavement-zoom-26/
LOCATION:Online\, Ventura County\, 93010\, United States
CATEGORIES:Grief & Bereavement Support Groups
END:VEVENT
BEGIN:VEVENT
DTSTART;TZID=America/Los_Angeles:20260526T103000
DTEND;TZID=America/Los_Angeles:20260526T120000
DTSTAMP:20260421T045741
CREATED:20251222T201141Z
LAST-MODIFIED:20251222T201141Z
UID:21313-1779791400-1779796800@www.lmvna.org
SUMMARY:General Bereavement - Ojai
DESCRIPTION:Every Tuesday\, 10:30 am – Noon in Ojai. \nTo register\, click here or call Camarillo Office to sign up and get more details.  \nFree of charge and open to individuals who have experienced a loss. Meetings focus on helping you improve understanding of the grief process\, decrease emotional pain\, receive emotional and educational support and rediscover a sense of hope. Drop-ins are welcome.
URL:https://www.lmvna.org/event/general-bereavement-ojai-26/
LOCATION:OJAI UNITED METHODIST CHURCH\, 170 Church Road\, Ojai\, CA\, 93023\, United States
CATEGORIES:Grief & Bereavement Support Groups
END:VEVENT
BEGIN:VEVENT
DTSTART;TZID=America/Los_Angeles:20260526T180000
DTEND;TZID=America/Los_Angeles:20260526T193000
DTSTAMP:20260421T045741
CREATED:20251229T205640Z
LAST-MODIFIED:20251229T205640Z
UID:21527-1779818400-1779823800@www.lmvna.org
SUMMARY:Loss of Spouse or Partner
DESCRIPTION:Tuesdays\, 6 – 7:30PM (Camarillo\, In-Person)\nLivingston Memorial Visiting Nurse Association\, Hairs Conference Room\, 1996 Eastman Ave.\, Ventura.\nPlease call Camarillo Office or click here for details or to register.
URL:https://www.lmvna.org/event/loss-of-spouse-or-partner-31/
LOCATION:Camarillo Grief Center\, 400 Rosewood Ave #102\, Camarillo\, CA\, 93010
CATEGORIES:Grief & Bereavement Support Groups
END:VEVENT
BEGIN:VEVENT
DTSTART;TZID=America/Los_Angeles:20260527T130000
DTEND;TZID=America/Los_Angeles:20260527T143000
DTSTAMP:20260421T045741
CREATED:20251229T213250Z
LAST-MODIFIED:20251229T213250Z
UID:21579-1779886800-1779892200@www.lmvna.org
SUMMARY:Loss of Spouse or Partner
DESCRIPTION:Wednesdays\, 1 – 2:30pm (Camarillo\, In-Person)\nLivingston Memorial Visiting Nurse Association\, Hairs Conference Room\, 1996 Eastman Ave.\, Ventura.\nPlease call Camarillo Office or click here for details or to register.
URL:https://www.lmvna.org/event/loss-of-spouse-or-partner-61/
LOCATION:Camarillo Grief Center\, 400 Rosewood Ave #102\, Camarillo\, CA\, 93010
CATEGORIES:Grief & Bereavement Support Groups
END:VEVENT
BEGIN:VEVENT
DTSTART;TZID=America/Los_Angeles:20260527T133000
DTEND;TZID=America/Los_Angeles:20260527T150000
DTSTAMP:20260421T045741
CREATED:20251230T002908Z
LAST-MODIFIED:20260107T192416Z
UID:21705-1779888600-1779894000@www.lmvna.org
SUMMARY:Living With Type 2 and Pre-Diabetes Seminar - Thousand Oaks
DESCRIPTION:No registration is necessary.\n4th Wednesday of the month.\nGoebel Adult Community Center\, Foothill Room\n1385 East Janss Rd.
URL:https://www.lmvna.org/event/living-with-type-2-and-pre-diabetes-seminar-thousand-oaks-6/
LOCATION:Goebel Adult Community Center\, Foothill Room\, 1385 East Janss Rd.\, United States
CATEGORIES:Free Community Classes
END:VEVENT
BEGIN:VEVENT
DTSTART;TZID=America/Los_Angeles:20260527T183000
DTEND;TZID=America/Los_Angeles:20260527T200000
DTSTAMP:20260421T045741
CREATED:20251229T200325Z
LAST-MODIFIED:20251229T200325Z
UID:21436-1779906600-1779912000@www.lmvna.org
SUMMARY:Adult Loss of Parent
DESCRIPTION:2nd and 4th Wednesdays of every month from 6:30 to 8 pm\, Camarillo. \nPlease call Camarillo Office or click here for details or to register. \nFree of charge and open to individuals who have experienced a loss. Meetings focus on helping you improve understanding of the grief process\, decrease emotional pain\, receive emotional and educational support and rediscover a sense of hope. Drop-ins are welcome. 
URL:https://www.lmvna.org/event/adult-loss-of-parent-11/
LOCATION:Camarillo Grief Center\, 400 Rosewood Ave #102\, Camarillo\, CA\, 93010
CATEGORIES:Grief & Bereavement Support Groups
END:VEVENT
BEGIN:VEVENT
DTSTART;TZID=America/Los_Angeles:20260528T103000
DTEND;TZID=America/Los_Angeles:20260528T120000
DTSTAMP:20260421T045741
CREATED:20251229T220251Z
LAST-MODIFIED:20251229T220251Z
UID:21623-1779964200-1779969600@www.lmvna.org
SUMMARY:Loss of Spouse or Partner
DESCRIPTION:Thursdays\, 10:30am – Noon (Ventura\, In-Person)\nLivingston Memorial Visiting Nurse Association\, Hairs Conference Room\, 1996 Eastman Ave.\, Ventura.\nPlease call Camarillo Office or click here for details or to register.
URL:https://www.lmvna.org/event/loss-of-spouse-or-partner-83/
LOCATION:Livingston Memorial Visiting Nurse Association\, 1996 Eastman Ave #101\, Ventura\, 93003\, United States
CATEGORIES:Grief & Bereavement Support Groups
END:VEVENT
END:VCALENDAR