BEGIN:VCALENDAR
VERSION:2.0
PRODID:-//Livingston - ECPv6.15.11//NONSGML v1.0//EN
CALSCALE:GREGORIAN
METHOD:PUBLISH
X-ORIGINAL-URL:https://www.lmvna.org
X-WR-CALDESC:Events for Livingston
REFRESH-INTERVAL;VALUE=DURATION:PT1H
X-Robots-Tag:noindex
X-PUBLISHED-TTL:PT1H
BEGIN:VTIMEZONE
TZID:America/Los_Angeles
BEGIN:DAYLIGHT
TZOFFSETFROM:-0800
TZOFFSETTO:-0700
TZNAME:PDT
DTSTART:20250309T100000
END:DAYLIGHT
BEGIN:STANDARD
TZOFFSETFROM:-0700
TZOFFSETTO:-0800
TZNAME:PST
DTSTART:20251102T090000
END:STANDARD
BEGIN:DAYLIGHT
TZOFFSETFROM:-0800
TZOFFSETTO:-0700
TZNAME:PDT
DTSTART:20260308T100000
END:DAYLIGHT
BEGIN:STANDARD
TZOFFSETFROM:-0700
TZOFFSETTO:-0800
TZNAME:PST
DTSTART:20261101T090000
END:STANDARD
BEGIN:DAYLIGHT
TZOFFSETFROM:-0800
TZOFFSETTO:-0700
TZNAME:PDT
DTSTART:20270314T100000
END:DAYLIGHT
BEGIN:STANDARD
TZOFFSETFROM:-0700
TZOFFSETTO:-0800
TZNAME:PST
DTSTART:20271107T090000
END:STANDARD
END:VTIMEZONE
BEGIN:VEVENT
DTSTART;TZID=America/Los_Angeles:20260324T103000
DTEND;TZID=America/Los_Angeles:20260324T120000
DTSTAMP:20260421T045740
CREATED:20251222T195501Z
LAST-MODIFIED:20251222T201429Z
UID:21297-1774348200-1774353600@www.lmvna.org
SUMMARY:General Bereavement - Ojai
DESCRIPTION:Every Tuesday\, 10:30 am – Noon in Ojai. \nTo register\, click here or call Camarillo Office to sign up and get more details.  \nFree of charge and open to individuals who have experienced a loss. Meetings focus on helping you improve understanding of the grief process\, decrease emotional pain\, receive emotional and educational support and rediscover a sense of hope. Drop-ins are welcome.
URL:https://www.lmvna.org/event/general-bereavement-ojai-14/
LOCATION:OJAI UNITED METHODIST CHURCH\, 170 Church Road\, Ojai\, CA\, 93023\, United States
CATEGORIES:Grief & Bereavement Support Groups
END:VEVENT
BEGIN:VEVENT
DTSTART;TZID=America/Los_Angeles:20260324T150000
DTEND;TZID=America/Los_Angeles:20260324T160000
DTSTAMP:20260421T045740
CREATED:20250825T171938Z
LAST-MODIFIED:20250825T171938Z
UID:20167-1774364400-1774368000@www.lmvna.org
SUMMARY:Aging Well - Seminar
DESCRIPTION:Aging Well is a seminar presented by Dr. Lanyard Dial\, which will discuss aging health issues\, the role of medications\, vaccinations and the importance of exercise. \nThis seminar will take place at University Village\, Catalina Hall\, from 3 – 4 pm.
URL:https://www.lmvna.org/event/aging-well-seminar-2/
LOCATION:University Village\, Catalina Hall\, 3415 Campus Drive\, Thousand Oaks\, California\, 91360
CATEGORIES:Free Community Classes
END:VEVENT
BEGIN:VEVENT
DTSTART;TZID=America/Los_Angeles:20260324T180000
DTEND;TZID=America/Los_Angeles:20260324T193000
DTSTAMP:20260421T045740
CREATED:20251229T204847Z
LAST-MODIFIED:20251229T204847Z
UID:21509-1774375200-1774380600@www.lmvna.org
SUMMARY:Loss of Spouse or Partner
DESCRIPTION:Tuesdays\, 6 – 7:30PM (Camarillo\, In-Person)\nLivingston Memorial Visiting Nurse Association\, Hairs Conference Room\, 1996 Eastman Ave.\, Ventura.\nPlease call Camarillo Office or click here for details or to register.
URL:https://www.lmvna.org/event/loss-of-spouse-or-partner-17/
LOCATION:Camarillo Grief Center\, 400 Rosewood Ave #102\, Camarillo\, CA\, 93010
CATEGORIES:Grief & Bereavement Support Groups
END:VEVENT
BEGIN:VEVENT
DTSTART;TZID=America/Los_Angeles:20260325T130000
DTEND;TZID=America/Los_Angeles:20260325T143000
DTSTAMP:20260421T045740
CREATED:20251229T212723Z
LAST-MODIFIED:20251229T212723Z
UID:21561-1774443600-1774449000@www.lmvna.org
SUMMARY:Loss of Spouse or Partner
DESCRIPTION:Wednesdays\, 1 – 2:30pm (Camarillo\, In-Person)\nLivingston Memorial Visiting Nurse Association\, Hairs Conference Room\, 1996 Eastman Ave.\, Ventura.\nPlease call Camarillo Office or click here for details or to register.
URL:https://www.lmvna.org/event/loss-of-spouse-or-partner-52/
LOCATION:Camarillo Grief Center\, 400 Rosewood Ave #102\, Camarillo\, CA\, 93010
CATEGORIES:Grief & Bereavement Support Groups
END:VEVENT
BEGIN:VEVENT
DTSTART;TZID=America/Los_Angeles:20260325T133000
DTEND;TZID=America/Los_Angeles:20260325T150000
DTSTAMP:20260421T045740
CREATED:20251230T002804Z
LAST-MODIFIED:20251230T002804Z
UID:21701-1774445400-1774450800@www.lmvna.org
SUMMARY:Living With Type 2 and Pre-Diabetes Seminar - Thousand Oaks
DESCRIPTION:No registration is necessary.\n4th Wednesday of the month.\nGoebel Adult Community Center\, Foothill Room\n1385 East Janss Rd.
URL:https://www.lmvna.org/event/living-with-type-2-and-pre-diabetes-seminar-thousand-oaks-4/
LOCATION:Goebel Adult Community Center\, Foothill Room\, 1385 East Janss Rd.\, United States
CATEGORIES:Free Community Classes
END:VEVENT
BEGIN:VEVENT
DTSTART;TZID=America/Los_Angeles:20260325T183000
DTEND;TZID=America/Los_Angeles:20260325T200000
DTSTAMP:20260421T045740
CREATED:20251229T200021Z
LAST-MODIFIED:20251229T200021Z
UID:21428-1774463400-1774468800@www.lmvna.org
SUMMARY:Adult Loss of Parent
DESCRIPTION:2nd and 4th Wednesdays of every month from 6:30 to 8 pm\, Camarillo. \nPlease call Camarillo Office or click here for details or to register. \nFree of charge and open to individuals who have experienced a loss. Meetings focus on helping you improve understanding of the grief process\, decrease emotional pain\, receive emotional and educational support and rediscover a sense of hope. Drop-ins are welcome. 
URL:https://www.lmvna.org/event/adult-loss-of-parent-7/
LOCATION:Camarillo Grief Center\, 400 Rosewood Ave #102\, Camarillo\, CA\, 93010
CATEGORIES:Grief & Bereavement Support Groups
END:VEVENT
BEGIN:VEVENT
DTSTART;TZID=America/Los_Angeles:20260326T103000
DTEND;TZID=America/Los_Angeles:20260326T120000
DTSTAMP:20260421T045740
CREATED:20251229T214822Z
LAST-MODIFIED:20251229T215830Z
UID:21607-1774521000-1774526400@www.lmvna.org
SUMMARY:Loss of Spouse or Partner
DESCRIPTION:Thursdays\, 10:30am – Noon (Ventura\, In-Person)\nLivingston Memorial Visiting Nurse Association\, Hairs Conference Room\, 1996 Eastman Ave.\, Ventura.\nPlease call Camarillo Office or click here for details or to register.
URL:https://www.lmvna.org/event/loss-of-spouse-or-partner-75/
LOCATION:Livingston Memorial Visiting Nurse Association\, 1996 Eastman Ave #101\, Ventura\, 93003\, United States
CATEGORIES:Grief & Bereavement Support Groups
END:VEVENT
BEGIN:VEVENT
DTSTART;TZID=America/Los_Angeles:20260326T140000
DTEND;TZID=America/Los_Angeles:20260326T153000
DTSTAMP:20260421T045740
CREATED:20251229T202037Z
LAST-MODIFIED:20251229T202037Z
UID:21466-1774533600-1774539000@www.lmvna.org
SUMMARY:Living Life Widowed
DESCRIPTION:Every Thursday of every month from 2 to 3:30 pm\, Camarillo.\nPlease call Camarillo Office or click here for details or to register.
URL:https://www.lmvna.org/event/living-life-widowed-13/
LOCATION:Camarillo Grief Center\, 400 Rosewood Ave #102\, Camarillo\, CA\, 93010
CATEGORIES:Grief & Bereavement Support Groups
END:VEVENT
BEGIN:VEVENT
DTSTART;TZID=America/Los_Angeles:20260326T180000
DTEND;TZID=America/Los_Angeles:20260326T193000
DTSTAMP:20260421T045740
CREATED:20251229T194228Z
LAST-MODIFIED:20251229T194228Z
UID:21388-1774548000-1774553400@www.lmvna.org
SUMMARY:General Bereavement - Zoom
DESCRIPTION:Every Thursday\, 6 – 7:30 pm via Zoom. \nTo register\, click here or call Camarillo Office to sign up and get more details.  \nFree of charge and open to individuals who have experienced a loss. Meetings focus on helping you improve understanding of the grief process\, decrease emotional pain\, receive emotional and educational support and rediscover a sense of hope. Drop-ins are welcome. 
URL:https://www.lmvna.org/event/general-bereavement-zoom-18/
LOCATION:Online\, Ventura County\, 93010\, United States
CATEGORIES:Grief & Bereavement Support Groups
END:VEVENT
BEGIN:VEVENT
DTSTART;TZID=America/Los_Angeles:20260331T080000
DTEND;TZID=America/Los_Angeles:20260331T170000
DTSTAMP:20260421T045740
CREATED:20251222T201456Z
LAST-MODIFIED:20251222T201456Z
UID:21315-1774944000-1774976400@www.lmvna.org
SUMMARY:General Bereavement - Ojai
DESCRIPTION:Every Tuesday\, 10:30 am – Noon in Ojai. \nTo register\, click here or call Camarillo Office to sign up and get more details.  \nFree of charge and open to individuals who have experienced a loss. Meetings focus on helping you improve understanding of the grief process\, decrease emotional pain\, receive emotional and educational support and rediscover a sense of hope. Drop-ins are welcome.
URL:https://www.lmvna.org/event/general-bereavement-ojai-27/
LOCATION:OJAI UNITED METHODIST CHURCH\, 170 Church Road\, Ojai\, CA\, 93023\, United States
CATEGORIES:Grief & Bereavement Support Groups
END:VEVENT
BEGIN:VEVENT
DTSTART;TZID=America/Los_Angeles:20260331T180000
DTEND;TZID=America/Los_Angeles:20260331T193000
DTSTAMP:20260421T045740
CREATED:20251229T204931Z
LAST-MODIFIED:20251229T204931Z
UID:21511-1774980000-1774985400@www.lmvna.org
SUMMARY:Loss of Spouse or Partner
DESCRIPTION:Tuesdays\, 6 – 7:30PM (Camarillo\, In-Person)\nLivingston Memorial Visiting Nurse Association\, Hairs Conference Room\, 1996 Eastman Ave.\, Ventura.\nPlease call Camarillo Office or click here for details or to register.
URL:https://www.lmvna.org/event/loss-of-spouse-or-partner-18/
LOCATION:Camarillo Grief Center\, 400 Rosewood Ave #102\, Camarillo\, CA\, 93010
CATEGORIES:Grief & Bereavement Support Groups
END:VEVENT
END:VCALENDAR