BEGIN:VCALENDAR
VERSION:2.0
PRODID:-//Livingston - ECPv6.15.11//NONSGML v1.0//EN
CALSCALE:GREGORIAN
METHOD:PUBLISH
X-ORIGINAL-URL:https://www.lmvna.org
X-WR-CALDESC:Events for Livingston
REFRESH-INTERVAL;VALUE=DURATION:PT1H
X-Robots-Tag:noindex
X-PUBLISHED-TTL:PT1H
BEGIN:VTIMEZONE
TZID:America/Los_Angeles
BEGIN:DAYLIGHT
TZOFFSETFROM:-0800
TZOFFSETTO:-0700
TZNAME:PDT
DTSTART:20210314T100000
END:DAYLIGHT
BEGIN:STANDARD
TZOFFSETFROM:-0700
TZOFFSETTO:-0800
TZNAME:PST
DTSTART:20211107T090000
END:STANDARD
BEGIN:DAYLIGHT
TZOFFSETFROM:-0800
TZOFFSETTO:-0700
TZNAME:PDT
DTSTART:20220313T100000
END:DAYLIGHT
BEGIN:STANDARD
TZOFFSETFROM:-0700
TZOFFSETTO:-0800
TZNAME:PST
DTSTART:20221106T090000
END:STANDARD
BEGIN:DAYLIGHT
TZOFFSETFROM:-0800
TZOFFSETTO:-0700
TZNAME:PDT
DTSTART:20230312T100000
END:DAYLIGHT
BEGIN:STANDARD
TZOFFSETFROM:-0700
TZOFFSETTO:-0800
TZNAME:PST
DTSTART:20231105T090000
END:STANDARD
END:VTIMEZONE
BEGIN:VEVENT
DTSTART;TZID=America/Los_Angeles:20221005T103000
DTEND;TZID=America/Los_Angeles:20221005T120000
DTSTAMP:20260423T172340
CREATED:20220111T220441Z
LAST-MODIFIED:20220111T220441Z
UID:11536-1664965800-1664971200@www.lmvna.org
SUMMARY:Living With Type 2 & Pre-Diabetes - Free Class
DESCRIPTION:Free class about managing life with Type 2 and pre-diabetes. Learn about meal planning\, exercise\, blood sugar monitoring\, medication\, and new development.\nSimi Valley Senior Center\, Game Room\n3900 Avenida Simi\, Simi Valley \nNO REGISTRATION NECESSARY.
URL:https://www.lmvna.org/event/living-with-type-2-pre-diabetes-free-class-2-2022-10-05/
LOCATION:Simi Valley Senior Center\, Game Room\, 3900 Avenida Simi\, United States
END:VEVENT
BEGIN:VEVENT
DTSTART;TZID=America/Los_Angeles:20221005T143000
DTEND;TZID=America/Los_Angeles:20221005T160000
DTSTAMP:20260423T172340
CREATED:20220111T220143Z
LAST-MODIFIED:20220111T220143Z
UID:11559-1664980200-1664985600@www.lmvna.org
SUMMARY:Living With Type 2 & Pre-Diabetes - Free Class
DESCRIPTION:Free class about managing life with Type 2 and pre-diabetes. Learn about meal planning\, exercise\, blood sugar monitoring\, medication\, and new development.\nCommunity Center Room #3\n1605 E Burnley St.\, Camarillo \nNO REGISTRATION NECESSARY.
URL:https://www.lmvna.org/event/living-with-type-2-pre-diabetes-free-class-2022-10-05/
LOCATION:Camarillo Community Center\, Room #3\, 1605 Burnley St.\, United States
END:VEVENT
BEGIN:VEVENT
DTSTART;TZID=America/Los_Angeles:20221026T133000
DTEND;TZID=America/Los_Angeles:20221026T150000
DTSTAMP:20260423T172340
CREATED:20220111T220925Z
LAST-MODIFIED:20220111T220925Z
UID:11549-1666791000-1666796400@www.lmvna.org
SUMMARY:Living With Type 2 & Pre-Diabetes - Free Class
DESCRIPTION:Free class about managing life with Type 2 and pre-diabetes. Learn about meal planning\, exercise\, blood sugar monitoring\, medication\, and new development.\nGoebel Adult Community Center\, Foothill Room\n1385 East Janss Rd\, Thousand Oaks \nNO REGISTRATION NECESSARY.
URL:https://www.lmvna.org/event/living-with-type-2-pre-diabetes-free-class-3-2022-10-26/
LOCATION:Goebel Adult Community Center\, Foothill Room\, 1385 East Janss Rd.\, United States
END:VEVENT
END:VCALENDAR