BEGIN:VCALENDAR
VERSION:2.0
PRODID:-//Livingston - ECPv6.15.11//NONSGML v1.0//EN
CALSCALE:GREGORIAN
METHOD:PUBLISH
X-ORIGINAL-URL:https://www.lmvna.org
X-WR-CALDESC:Events for Livingston
REFRESH-INTERVAL;VALUE=DURATION:PT1H
X-Robots-Tag:noindex
X-PUBLISHED-TTL:PT1H
BEGIN:VTIMEZONE
TZID:America/Los_Angeles
BEGIN:DAYLIGHT
TZOFFSETFROM:-0800
TZOFFSETTO:-0700
TZNAME:PDT
DTSTART:20250309T100000
END:DAYLIGHT
BEGIN:STANDARD
TZOFFSETFROM:-0700
TZOFFSETTO:-0800
TZNAME:PST
DTSTART:20251102T090000
END:STANDARD
BEGIN:DAYLIGHT
TZOFFSETFROM:-0800
TZOFFSETTO:-0700
TZNAME:PDT
DTSTART:20260308T100000
END:DAYLIGHT
BEGIN:STANDARD
TZOFFSETFROM:-0700
TZOFFSETTO:-0800
TZNAME:PST
DTSTART:20261101T090000
END:STANDARD
BEGIN:DAYLIGHT
TZOFFSETFROM:-0800
TZOFFSETTO:-0700
TZNAME:PDT
DTSTART:20270314T100000
END:DAYLIGHT
BEGIN:STANDARD
TZOFFSETFROM:-0700
TZOFFSETTO:-0800
TZNAME:PST
DTSTART:20271107T090000
END:STANDARD
END:VTIMEZONE
BEGIN:VEVENT
DTSTART;TZID=America/Los_Angeles:20260521T140000
DTEND;TZID=America/Los_Angeles:20260521T153000
DTSTAMP:20260421T082857
CREATED:20251229T202715Z
LAST-MODIFIED:20251229T202715Z
UID:21482-1779372000-1779377400@www.lmvna.org
SUMMARY:Living Life Widowed
DESCRIPTION:Every Thursday of every month from 2 to 3:30 pm\, Camarillo.\nPlease call Camarillo Office or click here for details or to register.
URL:https://www.lmvna.org/event/living-life-widowed-21/
LOCATION:Camarillo Grief Center\, 400 Rosewood Ave #102\, Camarillo\, CA\, 93010
CATEGORIES:Grief & Bereavement Support Groups
END:VEVENT
BEGIN:VEVENT
DTSTART;TZID=America/Los_Angeles:20260521T180000
DTEND;TZID=America/Los_Angeles:20260521T193000
DTSTAMP:20260421T082857
CREATED:20251229T194925Z
LAST-MODIFIED:20251229T194925Z
UID:21404-1779386400-1779391800@www.lmvna.org
SUMMARY:General Bereavement - Zoom
DESCRIPTION:Every Thursday\, 6 – 7:30 pm via Zoom. \nTo register\, click here or call Camarillo Office to sign up and get more details.  \nFree of charge and open to individuals who have experienced a loss. Meetings focus on helping you improve understanding of the grief process\, decrease emotional pain\, receive emotional and educational support and rediscover a sense of hope. Drop-ins are welcome. 
URL:https://www.lmvna.org/event/general-bereavement-zoom-26/
LOCATION:Online\, Ventura County\, 93010\, United States
CATEGORIES:Grief & Bereavement Support Groups
END:VEVENT
BEGIN:VEVENT
DTSTART;TZID=America/Los_Angeles:20260526T103000
DTEND;TZID=America/Los_Angeles:20260526T120000
DTSTAMP:20260421T082857
CREATED:20251222T201141Z
LAST-MODIFIED:20251222T201141Z
UID:21313-1779791400-1779796800@www.lmvna.org
SUMMARY:General Bereavement - Ojai
DESCRIPTION:Every Tuesday\, 10:30 am – Noon in Ojai. \nTo register\, click here or call Camarillo Office to sign up and get more details.  \nFree of charge and open to individuals who have experienced a loss. Meetings focus on helping you improve understanding of the grief process\, decrease emotional pain\, receive emotional and educational support and rediscover a sense of hope. Drop-ins are welcome.
URL:https://www.lmvna.org/event/general-bereavement-ojai-26/
LOCATION:OJAI UNITED METHODIST CHURCH\, 170 Church Road\, Ojai\, CA\, 93023\, United States
CATEGORIES:Grief & Bereavement Support Groups
END:VEVENT
BEGIN:VEVENT
DTSTART;TZID=America/Los_Angeles:20260526T180000
DTEND;TZID=America/Los_Angeles:20260526T193000
DTSTAMP:20260421T082857
CREATED:20251229T205640Z
LAST-MODIFIED:20251229T205640Z
UID:21527-1779818400-1779823800@www.lmvna.org
SUMMARY:Loss of Spouse or Partner
DESCRIPTION:Tuesdays\, 6 – 7:30PM (Camarillo\, In-Person)\nLivingston Memorial Visiting Nurse Association\, Hairs Conference Room\, 1996 Eastman Ave.\, Ventura.\nPlease call Camarillo Office or click here for details or to register.
URL:https://www.lmvna.org/event/loss-of-spouse-or-partner-31/
LOCATION:Camarillo Grief Center\, 400 Rosewood Ave #102\, Camarillo\, CA\, 93010
CATEGORIES:Grief & Bereavement Support Groups
END:VEVENT
BEGIN:VEVENT
DTSTART;TZID=America/Los_Angeles:20260527T130000
DTEND;TZID=America/Los_Angeles:20260527T143000
DTSTAMP:20260421T082857
CREATED:20251229T213250Z
LAST-MODIFIED:20251229T213250Z
UID:21579-1779886800-1779892200@www.lmvna.org
SUMMARY:Loss of Spouse or Partner
DESCRIPTION:Wednesdays\, 1 – 2:30pm (Camarillo\, In-Person)\nLivingston Memorial Visiting Nurse Association\, Hairs Conference Room\, 1996 Eastman Ave.\, Ventura.\nPlease call Camarillo Office or click here for details or to register.
URL:https://www.lmvna.org/event/loss-of-spouse-or-partner-61/
LOCATION:Camarillo Grief Center\, 400 Rosewood Ave #102\, Camarillo\, CA\, 93010
CATEGORIES:Grief & Bereavement Support Groups
END:VEVENT
BEGIN:VEVENT
DTSTART;TZID=America/Los_Angeles:20260527T133000
DTEND;TZID=America/Los_Angeles:20260527T150000
DTSTAMP:20260421T082857
CREATED:20251230T002908Z
LAST-MODIFIED:20260107T192416Z
UID:21705-1779888600-1779894000@www.lmvna.org
SUMMARY:Living With Type 2 and Pre-Diabetes Seminar - Thousand Oaks
DESCRIPTION:No registration is necessary.\n4th Wednesday of the month.\nGoebel Adult Community Center\, Foothill Room\n1385 East Janss Rd.
URL:https://www.lmvna.org/event/living-with-type-2-and-pre-diabetes-seminar-thousand-oaks-6/
LOCATION:Goebel Adult Community Center\, Foothill Room\, 1385 East Janss Rd.\, United States
CATEGORIES:Free Community Classes
END:VEVENT
BEGIN:VEVENT
DTSTART;TZID=America/Los_Angeles:20260527T183000
DTEND;TZID=America/Los_Angeles:20260527T200000
DTSTAMP:20260421T082857
CREATED:20251229T200325Z
LAST-MODIFIED:20251229T200325Z
UID:21436-1779906600-1779912000@www.lmvna.org
SUMMARY:Adult Loss of Parent
DESCRIPTION:2nd and 4th Wednesdays of every month from 6:30 to 8 pm\, Camarillo. \nPlease call Camarillo Office or click here for details or to register. \nFree of charge and open to individuals who have experienced a loss. Meetings focus on helping you improve understanding of the grief process\, decrease emotional pain\, receive emotional and educational support and rediscover a sense of hope. Drop-ins are welcome. 
URL:https://www.lmvna.org/event/adult-loss-of-parent-11/
LOCATION:Camarillo Grief Center\, 400 Rosewood Ave #102\, Camarillo\, CA\, 93010
CATEGORIES:Grief & Bereavement Support Groups
END:VEVENT
BEGIN:VEVENT
DTSTART;TZID=America/Los_Angeles:20260528T103000
DTEND;TZID=America/Los_Angeles:20260528T120000
DTSTAMP:20260421T082857
CREATED:20251229T220251Z
LAST-MODIFIED:20251229T220251Z
UID:21623-1779964200-1779969600@www.lmvna.org
SUMMARY:Loss of Spouse or Partner
DESCRIPTION:Thursdays\, 10:30am – Noon (Ventura\, In-Person)\nLivingston Memorial Visiting Nurse Association\, Hairs Conference Room\, 1996 Eastman Ave.\, Ventura.\nPlease call Camarillo Office or click here for details or to register.
URL:https://www.lmvna.org/event/loss-of-spouse-or-partner-83/
LOCATION:Livingston Memorial Visiting Nurse Association\, 1996 Eastman Ave #101\, Ventura\, 93003\, United States
CATEGORIES:Grief & Bereavement Support Groups
END:VEVENT
BEGIN:VEVENT
DTSTART;TZID=America/Los_Angeles:20260528T140000
DTEND;TZID=America/Los_Angeles:20260528T153000
DTSTAMP:20260421T082857
CREATED:20251229T202803Z
LAST-MODIFIED:20251229T202803Z
UID:21484-1779976800-1779982200@www.lmvna.org
SUMMARY:Living Life Widowed
DESCRIPTION:Every Thursday of every month from 2 to 3:30 pm\, Camarillo.\nPlease call Camarillo Office or click here for details or to register.
URL:https://www.lmvna.org/event/living-life-widowed-22/
LOCATION:Camarillo Grief Center\, 400 Rosewood Ave #102\, Camarillo\, CA\, 93010
CATEGORIES:Grief & Bereavement Support Groups
END:VEVENT
BEGIN:VEVENT
DTSTART;TZID=America/Los_Angeles:20260528T180000
DTEND;TZID=America/Los_Angeles:20260528T193000
DTSTAMP:20260421T082857
CREATED:20251229T195032Z
LAST-MODIFIED:20251229T195032Z
UID:21406-1779991200-1779996600@www.lmvna.org
SUMMARY:General Bereavement - Zoom
DESCRIPTION:Every Thursday\, 6 – 7:30 pm via Zoom. \nTo register\, click here or call Camarillo Office to sign up and get more details.  \nFree of charge and open to individuals who have experienced a loss. Meetings focus on helping you improve understanding of the grief process\, decrease emotional pain\, receive emotional and educational support and rediscover a sense of hope. Drop-ins are welcome. 
URL:https://www.lmvna.org/event/general-bereavement-zoom-27/
LOCATION:Online\, Ventura County\, 93010\, United States
CATEGORIES:Grief & Bereavement Support Groups
END:VEVENT
BEGIN:VEVENT
DTSTART;TZID=America/Los_Angeles:20260602T180000
DTEND;TZID=America/Los_Angeles:20260602T193000
DTSTAMP:20260421T082857
CREATED:20251229T205720Z
LAST-MODIFIED:20251229T205720Z
UID:21529-1780423200-1780428600@www.lmvna.org
SUMMARY:Loss of Spouse or Partner
DESCRIPTION:Tuesdays\, 6 – 7:30PM (Camarillo\, In-Person)\nLivingston Memorial Visiting Nurse Association\, Hairs Conference Room\, 1996 Eastman Ave.\, Ventura.\nPlease call Camarillo Office or click here for details or to register.
URL:https://www.lmvna.org/event/loss-of-spouse-or-partner-36/
LOCATION:Camarillo Grief Center\, 400 Rosewood Ave #102\, Camarillo\, CA\, 93010
CATEGORIES:Grief & Bereavement Support Groups
END:VEVENT
BEGIN:VEVENT
DTSTART;TZID=America/Los_Angeles:20260603T103000
DTEND;TZID=America/Los_Angeles:20260603T120000
DTSTAMP:20260421T082857
CREATED:20251230T002116Z
LAST-MODIFIED:20251230T002116Z
UID:21695-1780482600-1780488000@www.lmvna.org
SUMMARY:Living With Type 2 & Pre-Diabetes - Free Class (Simi Valley)
DESCRIPTION:Free class about managing life with Type 2 and pre-diabetes. Learn about meal planning\, exercise\, blood sugar monitoring\, medication\, and new development.\nSimi Valley Senior Center\, Game Room\n3900 Avenida Simi \nNO REGISTRATION NECESSARY.
URL:https://www.lmvna.org/event/living-with-type-2-pre-diabetes-free-class-simi-valley-7/
LOCATION:Simi Valley Senior Center\, Game Room\, 3900 Avenida Simi\, United States
CATEGORIES:Free Community Classes
END:VEVENT
BEGIN:VEVENT
DTSTART;TZID=America/Los_Angeles:20260603T143000
DTEND;TZID=America/Los_Angeles:20260603T160000
DTSTAMP:20260421T082857
CREATED:20251229T224036Z
LAST-MODIFIED:20251229T224036Z
UID:21683-1780497000-1780502400@www.lmvna.org
SUMMARY:Living With Type 2 & Pre-Diabetes - Free Class (Camarillo)
DESCRIPTION:Free class about managing life with Type 2 and pre-diabetes. Learn about meal planning\, exercise\, blood sugar monitoring\, medication\, and new development.\nCommunity Center\, Room #3\n1605 E Burnley St. \nNO REGISTRATION NECESSARY.
URL:https://www.lmvna.org/event/living-with-type-2-pre-diabetes-free-class-camarillo-7/
LOCATION:Camarillo Community Center\, Room #3\, 1605 Burnley St.\, United States
CATEGORIES:Free Community Classes
END:VEVENT
BEGIN:VEVENT
DTSTART;TZID=America/Los_Angeles:20260603T183000
DTEND;TZID=America/Los_Angeles:20260603T200000
DTSTAMP:20260421T082857
CREATED:20251229T221234Z
LAST-MODIFIED:20251229T221234Z
UID:21645-1780511400-1780516800@www.lmvna.org
SUMMARY:Survivors of Suicide Loss
DESCRIPTION:1st and 3rd Wednesdays\, Camarillo (In-Person)\n6:30 – 8 pm\nPlease call Camarillo Office or click here for details or to register.
URL:https://www.lmvna.org/event/survivors-of-suicide-loss-14/
LOCATION:Camarillo Grief Center\, 400 Rosewood Ave #102\, Camarillo\, CA\, 93010
CATEGORIES:Grief & Bereavement Support Groups
END:VEVENT
BEGIN:VEVENT
DTSTART;TZID=America/Los_Angeles:20260604T180000
DTEND;TZID=America/Los_Angeles:20260604T193000
DTSTAMP:20260421T082857
CREATED:20251229T195104Z
LAST-MODIFIED:20251229T195104Z
UID:21408-1780596000-1780601400@www.lmvna.org
SUMMARY:General Bereavement - Zoom
DESCRIPTION:Every Thursday\, 6 – 7:30 pm via Zoom. \nTo register\, click here or call Camarillo Office to sign up and get more details.  \nFree of charge and open to individuals who have experienced a loss. Meetings focus on helping you improve understanding of the grief process\, decrease emotional pain\, receive emotional and educational support and rediscover a sense of hope. Drop-ins are welcome. 
URL:https://www.lmvna.org/event/general-bereavement-zoom-28/
LOCATION:Online\, Ventura County\, 93010\, United States
CATEGORIES:Grief & Bereavement Support Groups
END:VEVENT
BEGIN:VEVENT
DTSTART;TZID=America/Los_Angeles:20260609T180000
DTEND;TZID=America/Los_Angeles:20260609T193000
DTSTAMP:20260421T082857
CREATED:20251229T205800Z
LAST-MODIFIED:20251229T205800Z
UID:21531-1781028000-1781033400@www.lmvna.org
SUMMARY:Loss of Spouse or Partner
DESCRIPTION:Tuesdays\, 6 – 7:30PM (Camarillo\, In-Person)\nLivingston Memorial Visiting Nurse Association\, Hairs Conference Room\, 1996 Eastman Ave.\, Ventura.\nPlease call Camarillo Office or click here for details or to register.
URL:https://www.lmvna.org/event/loss-of-spouse-or-partner-37/
LOCATION:Camarillo Grief Center\, 400 Rosewood Ave #102\, Camarillo\, CA\, 93010
CATEGORIES:Grief & Bereavement Support Groups
END:VEVENT
BEGIN:VEVENT
DTSTART;TZID=America/Los_Angeles:20260610T150000
DTEND;TZID=America/Los_Angeles:20260610T160000
DTSTAMP:20260421T082857
CREATED:20251229T222136Z
LAST-MODIFIED:20251229T222136Z
UID:21653-1781103600-1781107200@www.lmvna.org
SUMMARY:Joint Replacement Class - Oxnard
DESCRIPTION:Free class on what to expect pre and post surgery.\nCall (805) 642-0239 or Register Here.
URL:https://www.lmvna.org/event/joint-replacement-class-oxnard-4/
LOCATION:Las Islas Family Medical Group\, 2400 S C St\, Oxnard\, CA\, United States
CATEGORIES:Grief & Bereavement Support Groups
END:VEVENT
BEGIN:VEVENT
DTSTART;TZID=America/Los_Angeles:20260610T183000
DTEND;TZID=America/Los_Angeles:20260610T200000
DTSTAMP:20260421T082857
CREATED:20251229T200355Z
LAST-MODIFIED:20251229T200355Z
UID:21438-1781116200-1781121600@www.lmvna.org
SUMMARY:Adult Loss of Parent
DESCRIPTION:2nd and 4th Wednesdays of every month from 6:30 to 8 pm\, Camarillo. \nPlease call Camarillo Office or click here for details or to register. \nFree of charge and open to individuals who have experienced a loss. Meetings focus on helping you improve understanding of the grief process\, decrease emotional pain\, receive emotional and educational support and rediscover a sense of hope. Drop-ins are welcome. 
URL:https://www.lmvna.org/event/adult-loss-of-parent-12/
LOCATION:Camarillo Grief Center\, 400 Rosewood Ave #102\, Camarillo\, CA\, 93010
CATEGORIES:Grief & Bereavement Support Groups
END:VEVENT
BEGIN:VEVENT
DTSTART;TZID=America/Los_Angeles:20260611T180000
DTEND;TZID=America/Los_Angeles:20260611T193000
DTSTAMP:20260421T082857
CREATED:20251229T195136Z
LAST-MODIFIED:20251229T195136Z
UID:21410-1781200800-1781206200@www.lmvna.org
SUMMARY:General Bereavement - Zoom
DESCRIPTION:Every Thursday\, 6 – 7:30 pm via Zoom. \nTo register\, click here or call Camarillo Office to sign up and get more details.  \nFree of charge and open to individuals who have experienced a loss. Meetings focus on helping you improve understanding of the grief process\, decrease emotional pain\, receive emotional and educational support and rediscover a sense of hope. Drop-ins are welcome. 
URL:https://www.lmvna.org/event/general-bereavement-zoom-29/
LOCATION:Online\, Ventura County\, 93010\, United States
CATEGORIES:Grief & Bereavement Support Groups
END:VEVENT
BEGIN:VEVENT
DTSTART;TZID=America/Los_Angeles:20260616T180000
DTEND;TZID=America/Los_Angeles:20260616T193000
DTSTAMP:20260421T082857
CREATED:20251229T205842Z
LAST-MODIFIED:20251229T205842Z
UID:21533-1781632800-1781638200@www.lmvna.org
SUMMARY:Loss of Spouse or Partner
DESCRIPTION:Tuesdays\, 6 – 7:30PM (Camarillo\, In-Person)\nLivingston Memorial Visiting Nurse Association\, Hairs Conference Room\, 1996 Eastman Ave.\, Ventura.\nPlease call Camarillo Office or click here for details or to register.
URL:https://www.lmvna.org/event/loss-of-spouse-or-partner-38/
LOCATION:Camarillo Grief Center\, 400 Rosewood Ave #102\, Camarillo\, CA\, 93010
CATEGORIES:Grief & Bereavement Support Groups
END:VEVENT
BEGIN:VEVENT
DTSTART;TZID=America/Los_Angeles:20260617T183000
DTEND;TZID=America/Los_Angeles:20260617T200000
DTSTAMP:20260421T082857
CREATED:20251229T221318Z
LAST-MODIFIED:20251229T221318Z
UID:21647-1781721000-1781726400@www.lmvna.org
SUMMARY:Survivors of Suicide Loss
DESCRIPTION:1st and 3rd Wednesdays\, Camarillo (In-Person)\n6:30 – 8 pm\nPlease call Camarillo Office or click here for details or to register.
URL:https://www.lmvna.org/event/survivors-of-suicide-loss-15/
LOCATION:Camarillo Grief Center\, 400 Rosewood Ave #102\, Camarillo\, CA\, 93010
CATEGORIES:Grief & Bereavement Support Groups
END:VEVENT
BEGIN:VEVENT
DTSTART;TZID=America/Los_Angeles:20260618T180000
DTEND;TZID=America/Los_Angeles:20260618T193000
DTSTAMP:20260421T082857
CREATED:20251229T195208Z
LAST-MODIFIED:20251229T195208Z
UID:21413-1781805600-1781811000@www.lmvna.org
SUMMARY:General Bereavement - Zoom
DESCRIPTION:Every Thursday\, 6 – 7:30 pm via Zoom. \nTo register\, click here or call Camarillo Office to sign up and get more details.  \nFree of charge and open to individuals who have experienced a loss. Meetings focus on helping you improve understanding of the grief process\, decrease emotional pain\, receive emotional and educational support and rediscover a sense of hope. Drop-ins are welcome. 
URL:https://www.lmvna.org/event/general-bereavement-zoom-30/
LOCATION:Online\, Ventura County\, 93010\, United States
CATEGORIES:Grief & Bereavement Support Groups
END:VEVENT
BEGIN:VEVENT
DTSTART;TZID=America/Los_Angeles:20260623T180000
DTEND;TZID=America/Los_Angeles:20260623T193000
DTSTAMP:20260421T082857
CREATED:20251229T205919Z
LAST-MODIFIED:20251229T205919Z
UID:21535-1782237600-1782243000@www.lmvna.org
SUMMARY:Loss of Spouse or Partner
DESCRIPTION:Tuesdays\, 6 – 7:30PM (Camarillo\, In-Person)\nLivingston Memorial Visiting Nurse Association\, Hairs Conference Room\, 1996 Eastman Ave.\, Ventura.\nPlease call Camarillo Office or click here for details or to register.
URL:https://www.lmvna.org/event/loss-of-spouse-or-partner-39/
LOCATION:Camarillo Grief Center\, 400 Rosewood Ave #102\, Camarillo\, CA\, 93010
CATEGORIES:Grief & Bereavement Support Groups
END:VEVENT
BEGIN:VEVENT
DTSTART;TZID=America/Los_Angeles:20260624T133000
DTEND;TZID=America/Los_Angeles:20260624T150000
DTSTAMP:20260421T082857
CREATED:20251230T002939Z
LAST-MODIFIED:20251230T002939Z
UID:21707-1782307800-1782313200@www.lmvna.org
SUMMARY:Living With Type 2 and Pre-Diabetes Seminar - Thousand Oaks
DESCRIPTION:No registration is necessary.\n4th Wednesday of the month.\nGoebel Adult Community Center\, Foothill Room\n1385 East Janss Rd.
URL:https://www.lmvna.org/event/living-with-type-2-and-pre-diabetes-seminar-thousand-oaks-7/
LOCATION:Goebel Adult Community Center\, Foothill Room\, 1385 East Janss Rd.\, United States
CATEGORIES:Free Community Classes
END:VEVENT
BEGIN:VEVENT
DTSTART;TZID=America/Los_Angeles:20260624T183000
DTEND;TZID=America/Los_Angeles:20260624T200000
DTSTAMP:20260421T082857
CREATED:20251229T200425Z
LAST-MODIFIED:20251229T200425Z
UID:21440-1782325800-1782331200@www.lmvna.org
SUMMARY:Adult Loss of Parent
DESCRIPTION:2nd and 4th Wednesdays of every month from 6:30 to 8 pm\, Camarillo. \nPlease call Camarillo Office or click here for details or to register. \nFree of charge and open to individuals who have experienced a loss. Meetings focus on helping you improve understanding of the grief process\, decrease emotional pain\, receive emotional and educational support and rediscover a sense of hope. Drop-ins are welcome. 
URL:https://www.lmvna.org/event/adult-loss-of-parent-13/
LOCATION:Camarillo Grief Center\, 400 Rosewood Ave #102\, Camarillo\, CA\, 93010
CATEGORIES:Grief & Bereavement Support Groups
END:VEVENT
BEGIN:VEVENT
DTSTART;TZID=America/Los_Angeles:20260625T180000
DTEND;TZID=America/Los_Angeles:20260625T193000
DTSTAMP:20260421T082857
CREATED:20251229T195245Z
LAST-MODIFIED:20251229T195245Z
UID:21415-1782410400-1782415800@www.lmvna.org
SUMMARY:General Bereavement - Zoom
DESCRIPTION:Every Thursday\, 6 – 7:30 pm via Zoom. \nTo register\, click here or call Camarillo Office to sign up and get more details.  \nFree of charge and open to individuals who have experienced a loss. Meetings focus on helping you improve understanding of the grief process\, decrease emotional pain\, receive emotional and educational support and rediscover a sense of hope. Drop-ins are welcome. 
URL:https://www.lmvna.org/event/general-bereavement-zoom-31/
LOCATION:Online\, Ventura County\, 93010\, United States
CATEGORIES:Grief & Bereavement Support Groups
END:VEVENT
BEGIN:VEVENT
DTSTART;TZID=America/Los_Angeles:20260630T180000
DTEND;TZID=America/Los_Angeles:20260630T193000
DTSTAMP:20260421T082857
CREATED:20251229T205957Z
LAST-MODIFIED:20251229T205957Z
UID:21537-1782842400-1782847800@www.lmvna.org
SUMMARY:Loss of Spouse or Partner
DESCRIPTION:Tuesdays\, 6 – 7:30PM (Camarillo\, In-Person)\nLivingston Memorial Visiting Nurse Association\, Hairs Conference Room\, 1996 Eastman Ave.\, Ventura.\nPlease call Camarillo Office or click here for details or to register.
URL:https://www.lmvna.org/event/loss-of-spouse-or-partner-40/
LOCATION:Camarillo Grief Center\, 400 Rosewood Ave #102\, Camarillo\, CA\, 93010
CATEGORIES:Grief & Bereavement Support Groups
END:VEVENT
BEGIN:VEVENT
DTSTART;TZID=America/Los_Angeles:20260714T150000
DTEND;TZID=America/Los_Angeles:20260714T160000
DTSTAMP:20260421T082857
CREATED:20251229T223005Z
LAST-MODIFIED:20251229T223005Z
UID:21667-1784041200-1784044800@www.lmvna.org
SUMMARY:Joint Replacement Class - Thousand Oaks
DESCRIPTION:Free class on what to expect pre and post surgery.\nCall (805) 642-0239 or Register Here.
URL:https://www.lmvna.org/event/joint-replacement-class-thousand-oaks-4/
LOCATION:Ventura County Health Care Agency\, Community Room\, 125 West Thousand Oaks Blvd.\, Ventura\, United States
CATEGORIES:Free Community Classes
END:VEVENT
BEGIN:VEVENT
DTSTART;TZID=America/Los_Angeles:20260812T150000
DTEND;TZID=America/Los_Angeles:20260812T160000
DTSTAMP:20260421T082857
CREATED:20251229T222212Z
LAST-MODIFIED:20251229T222302Z
UID:21655-1786546800-1786550400@www.lmvna.org
SUMMARY:Joint Replacement Class - Oxnard
DESCRIPTION:Free class on what to expect pre and post surgery.\nCall (805) 642-0239 or Register Here.
URL:https://www.lmvna.org/event/joint-replacement-class-oxnard-5/
LOCATION:Las Islas Family Medical Group\, 2400 S C St\, Oxnard\, CA\, United States
CATEGORIES:Free Community Classes
END:VEVENT
BEGIN:VEVENT
DTSTART;TZID=America/Los_Angeles:20260908T150000
DTEND;TZID=America/Los_Angeles:20260908T160000
DTSTAMP:20260421T082857
CREATED:20251229T223056Z
LAST-MODIFIED:20251229T223056Z
UID:21669-1788879600-1788883200@www.lmvna.org
SUMMARY:Joint Replacement Class - Thousand Oaks
DESCRIPTION:Free class on what to expect pre and post surgery.\nCall (805) 642-0239 or Register Here.
URL:https://www.lmvna.org/event/joint-replacement-class-thousand-oaks-5/
LOCATION:Ventura County Health Care Agency\, Community Room\, 125 West Thousand Oaks Blvd.\, Ventura\, United States
CATEGORIES:Free Community Classes
END:VEVENT
END:VCALENDAR