BEGIN:VCALENDAR
VERSION:2.0
PRODID:-//Livingston - ECPv6.15.11//NONSGML v1.0//EN
CALSCALE:GREGORIAN
METHOD:PUBLISH
X-ORIGINAL-URL:https://www.lmvna.org
X-WR-CALDESC:Events for Livingston
REFRESH-INTERVAL;VALUE=DURATION:PT1H
X-Robots-Tag:noindex
X-PUBLISHED-TTL:PT1H
BEGIN:VTIMEZONE
TZID:America/Los_Angeles
BEGIN:DAYLIGHT
TZOFFSETFROM:-0800
TZOFFSETTO:-0700
TZNAME:PDT
DTSTART:20250309T100000
END:DAYLIGHT
BEGIN:STANDARD
TZOFFSETFROM:-0700
TZOFFSETTO:-0800
TZNAME:PST
DTSTART:20251102T090000
END:STANDARD
BEGIN:DAYLIGHT
TZOFFSETFROM:-0800
TZOFFSETTO:-0700
TZNAME:PDT
DTSTART:20260308T100000
END:DAYLIGHT
BEGIN:STANDARD
TZOFFSETFROM:-0700
TZOFFSETTO:-0800
TZNAME:PST
DTSTART:20261101T090000
END:STANDARD
BEGIN:DAYLIGHT
TZOFFSETFROM:-0800
TZOFFSETTO:-0700
TZNAME:PDT
DTSTART:20270314T100000
END:DAYLIGHT
BEGIN:STANDARD
TZOFFSETFROM:-0700
TZOFFSETTO:-0800
TZNAME:PST
DTSTART:20271107T090000
END:STANDARD
END:VTIMEZONE
BEGIN:VEVENT
DTSTART;TZID=America/Los_Angeles:20260512T150000
DTEND;TZID=America/Los_Angeles:20260512T160000
DTSTAMP:20260421T090921
CREATED:20251229T222847Z
LAST-MODIFIED:20251229T222847Z
UID:21665-1778598000-1778601600@www.lmvna.org
SUMMARY:Joint Replacement Class - Thousand Oaks
DESCRIPTION:Free class on what to expect pre and post surgery.\nCall (805) 642-0239 or Register Here.
URL:https://www.lmvna.org/event/joint-replacement-class-thousand-oaks-3/
LOCATION:Ventura County Health Care Agency\, Community Room\, 125 West Thousand Oaks Blvd.\, Ventura\, United States
CATEGORIES:Free Community Classes
END:VEVENT
BEGIN:VEVENT
DTSTART;TZID=America/Los_Angeles:20260610T150000
DTEND;TZID=America/Los_Angeles:20260610T160000
DTSTAMP:20260421T090921
CREATED:20251229T222136Z
LAST-MODIFIED:20251229T222136Z
UID:21653-1781103600-1781107200@www.lmvna.org
SUMMARY:Joint Replacement Class - Oxnard
DESCRIPTION:Free class on what to expect pre and post surgery.\nCall (805) 642-0239 or Register Here.
URL:https://www.lmvna.org/event/joint-replacement-class-oxnard-4/
LOCATION:Las Islas Family Medical Group\, 2400 S C St\, Oxnard\, CA\, United States
CATEGORIES:Grief & Bereavement Support Groups
END:VEVENT
BEGIN:VEVENT
DTSTART;TZID=America/Los_Angeles:20260714T150000
DTEND;TZID=America/Los_Angeles:20260714T160000
DTSTAMP:20260421T090921
CREATED:20251229T223005Z
LAST-MODIFIED:20251229T223005Z
UID:21667-1784041200-1784044800@www.lmvna.org
SUMMARY:Joint Replacement Class - Thousand Oaks
DESCRIPTION:Free class on what to expect pre and post surgery.\nCall (805) 642-0239 or Register Here.
URL:https://www.lmvna.org/event/joint-replacement-class-thousand-oaks-4/
LOCATION:Ventura County Health Care Agency\, Community Room\, 125 West Thousand Oaks Blvd.\, Ventura\, United States
CATEGORIES:Free Community Classes
END:VEVENT
BEGIN:VEVENT
DTSTART;TZID=America/Los_Angeles:20260812T150000
DTEND;TZID=America/Los_Angeles:20260812T160000
DTSTAMP:20260421T090921
CREATED:20251229T222212Z
LAST-MODIFIED:20251229T222302Z
UID:21655-1786546800-1786550400@www.lmvna.org
SUMMARY:Joint Replacement Class - Oxnard
DESCRIPTION:Free class on what to expect pre and post surgery.\nCall (805) 642-0239 or Register Here.
URL:https://www.lmvna.org/event/joint-replacement-class-oxnard-5/
LOCATION:Las Islas Family Medical Group\, 2400 S C St\, Oxnard\, CA\, United States
CATEGORIES:Free Community Classes
END:VEVENT
BEGIN:VEVENT
DTSTART;TZID=America/Los_Angeles:20260908T150000
DTEND;TZID=America/Los_Angeles:20260908T160000
DTSTAMP:20260421T090921
CREATED:20251229T223056Z
LAST-MODIFIED:20251229T223056Z
UID:21669-1788879600-1788883200@www.lmvna.org
SUMMARY:Joint Replacement Class - Thousand Oaks
DESCRIPTION:Free class on what to expect pre and post surgery.\nCall (805) 642-0239 or Register Here.
URL:https://www.lmvna.org/event/joint-replacement-class-thousand-oaks-5/
LOCATION:Ventura County Health Care Agency\, Community Room\, 125 West Thousand Oaks Blvd.\, Ventura\, United States
CATEGORIES:Free Community Classes
END:VEVENT
BEGIN:VEVENT
DTSTART;TZID=America/Los_Angeles:20261014T150000
DTEND;TZID=America/Los_Angeles:20261014T160000
DTSTAMP:20260421T090921
CREATED:20251229T222257Z
LAST-MODIFIED:20251229T222257Z
UID:21657-1791990000-1791993600@www.lmvna.org
SUMMARY:Joint Replacement Class - Oxnard
DESCRIPTION:Free class on what to expect pre and post surgery.\nCall (805) 642-0239 or Register Here.
URL:https://www.lmvna.org/event/joint-replacement-class-oxnard-6/
LOCATION:Las Islas Family Medical Group\, 2400 S C St\, Oxnard\, CA\, United States
CATEGORIES:Free Community Classes
END:VEVENT
BEGIN:VEVENT
DTSTART;TZID=America/Los_Angeles:20261110T150000
DTEND;TZID=America/Los_Angeles:20261110T160000
DTSTAMP:20260421T090921
CREATED:20251229T223127Z
LAST-MODIFIED:20251229T223127Z
UID:21671-1794322800-1794326400@www.lmvna.org
SUMMARY:Joint Replacement Class - Thousand Oaks
DESCRIPTION:Free class on what to expect pre and post surgery.\nCall (805) 642-0239 or Register Here.
URL:https://www.lmvna.org/event/joint-replacement-class-thousand-oaks-6/
LOCATION:Ventura County Health Care Agency\, Community Room\, 125 West Thousand Oaks Blvd.\, Ventura\, United States
CATEGORIES:Free Community Classes
END:VEVENT
BEGIN:VEVENT
DTSTART;TZID=America/Los_Angeles:20261209T150000
DTEND;TZID=America/Los_Angeles:20261209T160000
DTSTAMP:20260421T090921
CREATED:20251229T222333Z
LAST-MODIFIED:20251229T222333Z
UID:21659-1796828400-1796832000@www.lmvna.org
SUMMARY:Joint Replacement Class - Oxnard
DESCRIPTION:Free class on what to expect pre and post surgery.\nCall (805) 642-0239 or Register Here.
URL:https://www.lmvna.org/event/joint-replacement-class-oxnard-7/
LOCATION:Las Islas Family Medical Group\, 2400 S C St\, Oxnard\, CA\, United States
CATEGORIES:Free Community Classes
END:VEVENT
END:VCALENDAR