BEGIN:VCALENDAR
VERSION:2.0
PRODID:-//Livingston - ECPv6.15.11//NONSGML v1.0//EN
CALSCALE:GREGORIAN
METHOD:PUBLISH
X-WR-CALNAME:Livingston
X-ORIGINAL-URL:https://www.lmvna.org
X-WR-CALDESC:Events for Livingston
REFRESH-INTERVAL;VALUE=DURATION:PT1H
X-Robots-Tag:noindex
X-PUBLISHED-TTL:PT1H
BEGIN:VTIMEZONE
TZID:America/Los_Angeles
BEGIN:DAYLIGHT
TZOFFSETFROM:-0800
TZOFFSETTO:-0700
TZNAME:PDT
DTSTART:20230312T100000
END:DAYLIGHT
BEGIN:STANDARD
TZOFFSETFROM:-0700
TZOFFSETTO:-0800
TZNAME:PST
DTSTART:20231105T090000
END:STANDARD
BEGIN:DAYLIGHT
TZOFFSETFROM:-0800
TZOFFSETTO:-0700
TZNAME:PDT
DTSTART:20240310T100000
END:DAYLIGHT
BEGIN:STANDARD
TZOFFSETFROM:-0700
TZOFFSETTO:-0800
TZNAME:PST
DTSTART:20241103T090000
END:STANDARD
BEGIN:DAYLIGHT
TZOFFSETFROM:-0800
TZOFFSETTO:-0700
TZNAME:PDT
DTSTART:20250309T100000
END:DAYLIGHT
BEGIN:STANDARD
TZOFFSETFROM:-0700
TZOFFSETTO:-0800
TZNAME:PST
DTSTART:20251102T090000
END:STANDARD
END:VTIMEZONE
BEGIN:VEVENT
DTSTART;TZID=America/Los_Angeles:20240710T133000
DTEND;TZID=America/Los_Angeles:20240710T143000
DTSTAMP:20260422T112315
CREATED:20210810T230957Z
LAST-MODIFIED:20240502T211047Z
UID:9775-1720618200-1720621800@www.lmvna.org
SUMMARY:REEMPLAZO DE ARTICULACIÓNES
DESCRIPTION:1:30 – 2:30 pm\nLas Islas Family Medical Group\, North Conference RoomFavor de responder (805) 642-0239 ext. 712 or Click Here to Register
URL:https://www.lmvna.org/event/reemplazo-de-articulaciones-2021-12-08/
LOCATION:Las Islas Family Medical Group\, 2400 S C St\, Oxnard\, CA\, United States
CATEGORIES:Free Community Classes
END:VEVENT
END:VCALENDAR