BEGIN:VCALENDAR
VERSION:2.0
PRODID:-//Livingston - ECPv6.15.11//NONSGML v1.0//EN
CALSCALE:GREGORIAN
METHOD:PUBLISH
X-ORIGINAL-URL:https://www.lmvna.org
X-WR-CALDESC:Events for Livingston
REFRESH-INTERVAL;VALUE=DURATION:PT1H
X-Robots-Tag:noindex
X-PUBLISHED-TTL:PT1H
BEGIN:VTIMEZONE
TZID:America/Los_Angeles
BEGIN:DAYLIGHT
TZOFFSETFROM:-0800
TZOFFSETTO:-0700
TZNAME:PDT
DTSTART:20210314T100000
END:DAYLIGHT
BEGIN:STANDARD
TZOFFSETFROM:-0700
TZOFFSETTO:-0800
TZNAME:PST
DTSTART:20211107T090000
END:STANDARD
BEGIN:DAYLIGHT
TZOFFSETFROM:-0800
TZOFFSETTO:-0700
TZNAME:PDT
DTSTART:20220313T100000
END:DAYLIGHT
BEGIN:STANDARD
TZOFFSETFROM:-0700
TZOFFSETTO:-0800
TZNAME:PST
DTSTART:20221106T090000
END:STANDARD
BEGIN:DAYLIGHT
TZOFFSETFROM:-0800
TZOFFSETTO:-0700
TZNAME:PDT
DTSTART:20230312T100000
END:DAYLIGHT
BEGIN:STANDARD
TZOFFSETFROM:-0700
TZOFFSETTO:-0800
TZNAME:PST
DTSTART:20231105T090000
END:STANDARD
END:VTIMEZONE
BEGIN:VEVENT
DTSTART;TZID=America/Los_Angeles:20221011T173000
DTEND;TZID=America/Los_Angeles:20221011T183000
DTSTAMP:20260423T170803
CREATED:20210810T220130Z
LAST-MODIFIED:20210810T220130Z
UID:11049-1665509400-1665513000@www.lmvna.org
SUMMARY:Young Teen Grief Support Group (Ages 11-4)
DESCRIPTION:All classes are being held online\, please call Camarillo Office to sign up and get more details.  \nFree of charge and open to individuals who have experienced a loss. Meetings focus on helping you improve understanding of the grief process\, decrease emotional pain\, receive emotional and educational support and rediscover a sense of hope. Drop-ins are welcome. 
URL:https://www.lmvna.org/event/young-teen-grief-support-group-ages-11-4-2022-10-11/
LOCATION:CA
CATEGORIES:Free Community Classes
END:VEVENT
BEGIN:VEVENT
DTSTART;TZID=America/Los_Angeles:20221025T173000
DTEND;TZID=America/Los_Angeles:20221025T183000
DTSTAMP:20260423T170803
CREATED:20210810T220130Z
LAST-MODIFIED:20210810T220130Z
UID:11050-1666719000-1666722600@www.lmvna.org
SUMMARY:Young Teen Grief Support Group (Ages 11-4)
DESCRIPTION:All classes are being held online\, please call Camarillo Office to sign up and get more details.  \nFree of charge and open to individuals who have experienced a loss. Meetings focus on helping you improve understanding of the grief process\, decrease emotional pain\, receive emotional and educational support and rediscover a sense of hope. Drop-ins are welcome. 
URL:https://www.lmvna.org/event/young-teen-grief-support-group-ages-11-4-2022-10-25/
LOCATION:CA
CATEGORIES:Free Community Classes
END:VEVENT
END:VCALENDAR